{"text_format":"2","workbook":"xlsx","n_sheets":2,"sheets":["2026공지"," 원본"],"not_rendered":{"charts":0,"images":0,"macros":0,"external_links":1,"defined_names":4,"comments":0,"pivot_tables":0},"unopened":[],"bounds":{"document_bytes":16777216,"sheet_cells":100000,"run_cost":"one","rows_first":2000,"rows_last":500,"rows_between":2000,"halvings":0,"cell_chars":16384,"cell_head_chars":4096},"cells_cut":0,"cells_raw":0,"read":"whole","date_system":"1900"}

{"sheet":"2026공지","index":0,"n_rows":160,"n_cols":18,"rows_kept":160,"cut":false,"hidden":false,"merged":[[0,0,0,17]]}
["2026학년도 여름 계절학기 잔여석 현황"]
["* 잔여석 현황은 신청 당일 변동 가능성이 있으니 유의하시기 바랍니다.",{"$nulls":16},"2026.6.22. 9:00"]
["순번","교과목구분","교과목영역","개설대학","개설학과/전공","학수번호","분반","교과목명","교수명","학점","시간","교시","강의실","수업유형","본교생\n제한인원","본교생\n수강인원","본교생\n잔여석","비고"]
[1,"교양","이화진선미","인문과학대학","기독교학과",10023,"01","기독교와세계","박인희",3,3,2,"학108","대면수업","131","130",{"$f":"O4-P4","v":1},""]
[{"$f":"A4+1","v":2},"교양","핵심교양(예술과표현)","교무처","미술사학",10090,"01","여성과예술","강은주",3,3,2,"학109","대면수업","50","48",{"$f":"O5-P5","v":2},""]
[{"$f":"A5+1","v":3},"교양","글로벌의사소통","호크마교양대학","호크마교양대학",10098,"02","College English","이은혜",3,3,2,"학202","대면수업","30","29",1,"영어강의 사회계열(재수강자 및 4학기이상 이수자 중 미수강자)/ 학점교류생수강불가"]
[{"$f":"A6+1","v":4},"교양","글로벌의사소통","호크마교양대학","호크마교양대학",10098,"06","College English","이수경",3,3,2,"학205","대면수업","30","28",2,"영어강의 자연계열(의예과 재수강자)/타전공생 수강불가/ 학점교류생수강불가"]
[5,"교양","글로벌의사소통","호크마교양대학","호크마교양대학",10098,"07","College English","Brian D. Ridgeway",3,3,1,"학204","대면수업","30","28",2,"영어강의 자연계열(의예과 재수강자)/타전공생 수강불가/ 학점교류생수강불가"]
[6,"교양","글로벌의사소통","호크마교양대학","호크마교양대학",10099,"01","Advanced English","박현주",3,3,2,"학207","대면수업","30","29",1,"영어강의 인문/사회계열(재수강자 및 4학기이상 이수자 중 미수강자)/ 학점교류생수강불가"]
[7,"교양","글로벌의사소통","호크마교양대학","호크마교양대학",10099,"02","Advanced English","신혜린",3,3,1,"학205","대면수업","30","29",1,"영어강의 자연계열(재수강자 및 4학기이상 이수자 중 미수강자)/ 학점교류생수강불가"]
[8,"교양","핵심교양(역사와철학)","인문과학대학","사학과",10149,"01","한국근현대사","송하연",3,3,2,"학551","대면수업","97","81",16,"수강불가→ 사학, 사학과"]
[9,"교양","일반교양(자유선택)","인문과학대학","사학과",10158,"01","여성으로읽는한국사","정나영",3,3,1,"포551","대면수업","15","8",7,"영어강의 학점교류생 수강불가"]
[10,"교양","핵심교양(예술과표현)","교무처","미술사학",10165,"01","현대미술사","강은주",3,3,1,"학251","대면수업","100","73",27,""]
[11,"교양","핵심교양(과학과기술)","공과대학","환경공학과",10559,"01","인류문명과환경과학","조경숙",3,3,"","","원격수업","220","187",33,"추가개설, 환경공학과 수강불가"]
[12,"교양","글로벌의사소통","호크마교양대학","호크마교양대학",10571,"01","기본스페인어","이은해",3,3,2,"학209","대면수업","30","23",7,""]
[13,"교양","일반교양(자유선택)","호크마교양대학","호크마교양대학",10647,"01","Practical English","이소영",3,"",2,"","대면수업","200","46",154,"영어강의 프로그램 신청서 접수 및 수강료(48만원) 납부 요망 / Speaking Master Program (SMaP)"]
[14,"교양","핵심교양(역사와철학)","교무처","여성학",10772,"01","여성과사회정의","양혜원",3,3,2,"포260","대면수업","25","22",3,""]
[15,"교양","일반교양(자유선택)","교무처","여성학",10820,"01","Gender Relations in Korea","조혜림",3,3,2,"포551","대면수업","10","1",9,"영어강의 학점교류생 수강 불가, 국제하계대학 강의는 2교시를 13:00~15:30에 진행"]
[16,"교양","핵심교양(인간과사회)","사회과학대학","사회복지학과",10904,"01","우리사회의문제와쟁점찾기","이지언",3,3,1,"포253","대면수업","50","30",20,""]
[17,"교양","일반교양(자유선택)","사범대학","교육학과",10962,"01","Introduction to Counseling","오인수",3,3,"","","원격수업","200","125",75,"영어강의 원격수업"]
[18,"교양","일반교양(자유선택)","교무처","국제교류팀(구 국제하계대학)",11007,"01","Contemporary Korean Cinema","곽영빈",3,3,1,"포362","대면수업","15","4",11,"영어강의 학점교류생 수강불가"]
[19,"교양","일반교양(자유선택)","교무처","국제교류팀(구 국제하계대학)",11018,"01","Hallyu in Global Contexts","윤호영",3,3,2,"캠B147","대면수업","15","0",15,"영어강의 학점교류생 수강불가, 국제하계대학 강의는 2교시를 13:00~15:30에 진행"]
[20,"교양","글로벌의사소통","인문과학대학","중어중문학과",11037,"01","중국어Ⅱ","이유라",2,3,1,"학105","대면수업","30","6",24,""]
[21,"교양","핵심교양(역사와철학)","교무처","여성학",11078,"01","젠더와역사","김미선",3,3,1,"포261","대면수업","28","24",4,""]
[22,"교양","일반교양(자유선택)","교무처","국제학과(국제대학원)",11118,"01","Special Topics on Korean Culture","Chang, Paul Yunsik",3,3,"","","대면수업","15","10",5,"영어강의 월~목 10시~1시 국1002, Ewha-Harvard Summer(7/22~8/18), 사전선발생만 수강가능"]
[23,"교양","일반교양(자유선택)","교무처","국제교류팀(구 국제하계대학)",11120,"01","Cross-Cultural Psychology","윤선영",3,3,1,"포367","대면수업","10","3",7,"영어강의 학점교류생 수강불가"]
[24,"교양","일반교양(자유선택)","호크마교양대학","호크마교양대학",11132,"01","고급영어글쓰기","이소영",3,"",1,"","대면수업","100","13",87,"영어강의 프로그램 신청서 접수 및 수강료(48만원) 납부 요망 /  Ewha Writing Intensive School (EWIS)"]
[25,"교양","일반교양(자유선택)","학생처","학생처",11133,"01","이화글로벌프론티어","류소진",1,"","","","대면수업","32","28",4,"이화글로벌프론티어 사전 선발생만 수강 가능"]
[26,"교양","일반교양(자유선택)","교무처","국제학과(국제대학원)",11194,"01","국제개발해외탐사I","한비야",1,"","","","대면수업","12","9",3,"'국제구호와 개발협력' 교과목 수강생에 한해 참여, 사전선발생만 수강 가능/졸업예정자 수강불가"]
[27,"교양","일반교양(자유선택)","교무처","국제학과(국제대학원)",11194,"02","국제개발해외탐사I","Hannah Jun(전희경)",1,"","","","대면수업","30","10",20,"영어강의 추가개설, 교수인솔해외학습프로그램(사전선발생에 한해 수강가능/졸업예정자 수강불가)"]
[28,"교양","일반교양(자유선택)","교무처","국제교류팀(구 국제하계대학)",11317,"01","Intercultural Communications","임동진",3,3,1,"포357","대면수업","10","1",9,"영어강의 학점교류생 수강불가"]
[29,"교양","일반교양(자유선택)","교무처","국제교류팀(구 국제하계대학)",11343,"01","Cinema, Culture, and History","민자영",3,3,2,"포363","대면수업","15","0",15,"영어강의 학점교류생 수강불가, 국제하계대학 강의는 2교시를 13:00~15:30에 진행"]
[30,"교양","일반교양(자유선택)","교무처","국제교류팀(구 국제하계대학)",11347,"01","Visual Journal","김지인",3,3,1,"조형C104(ST-4)","대면수업","10","0",10,"영어강의 본교생 및 학점교류생 수강불가"]
[31,"교양","사고와표현","호크마교양대학","호크마교양대학",11352,"01","통합적사고와글쓰기","구선정",3,3,2,"학503","대면수업","35","15",20,"외국인 분반(TOPIK 3급 이하) / 한국인 및 재외국민 수강 불가"]
[32,"교양","사고와표현","호크마교양대학","호크마교양대학",11352,"02","통합적사고와글쓰기","한정미",3,3,1,"학503","대면수업","35","25",10,"외국인 분반(TOPIK 4급 이상) / 한국인 및 재외국민 수강 불가"]
[33,"교양","일반교양(미래설계)","학생군사교육단","학생군사교육단",11380,"01","전투지휘학II","이명건",1,"","","","대면수업","20","12",8,"추가개설, 66기만 수강(학군단 사관후보생 외 수강불가)"]
[34,"교양","일반교양(미래설계)","학생군사교육단","학생군사교육단",11381,"01","전투지휘학III","김근호",1,"","","","대면수업","20","4",16,"추가개설, 65기만 수강(학군단 사관후보생 외 수강불가)"]
[35,"교양","일반교양(자유선택)","교무처","국제교류팀(구 국제하계대학)",11384,"01","North Korea: Between Continuity and Change","최정봉",3,3,2,"포365","대면수업","15","0",15,"영어강의 학점교류생 수강불가, 국제하계대학 강의는 2교시를 13:00~15:30에 진행"]
[36,"교양","컴퓨팅과수리적사고","사회과학대학","사회복지학과",11385,"01","데이터과학적사고와사회문제해결과정","이지언",3,3,2,"포159","대면수업","40","27",13,""]
[37,"교양","일반교양(미래설계)","인재개발원","현장실습지원센터",11473,"02","이화커리어현장실습(계절)1A","조윤경",3,"","","","대면수업","100","1",99,"추가개설, 인재개발원 현장실습지원센터 사전 승인 필요, 휴학생 수강신청 교과목, 미선발시 개별적으로 수강취소 및 환불"]
[38,"교양","일반교양(자유선택)","교무처","국제교류팀(구 국제하계대학)",11487,"01","Criminal Psychology: Exploring the Mind of Criminals","윤선영",3,3,2,"포367","대면수업","10","5",{"$f":"O41-P41","v":5},"영어강의 학점교류생 수강불가, 국제하계대학 강의는 2교시를 13:00~15:30에 진행"]
[39,"교양","일반교양(자유선택)","교무처","국제교류팀(구 국제하계대학)",11488,"01","Design Creation (Studio-type)","김지인",3,3,2,"조형C104(ST-4)","대면수업","5","0",5,"영어강의 본교생 및 학점교류생 수강불가, 국제하계대학 강의는 2교시를 13:00~15:30에 진행"]
[40,"교양","일반교양(자유선택)","교무처","국제교류팀(구 국제하계대학)",11489,"01","Art and the City: Exploring Asian Art in Seoul","권민호",3,3,2,"포358","대면수업","15","1",14,"영어강의 학점교류생 수강불가, 국제하계대학 강의는 2교시를 13:00~15:30에 진행"]
[41,"교양","일반교양(자유선택)","교무처","국제교류팀(구 국제하계대학)",11494,"01","Contemporary Issues in Korean Culture","최정봉",3,3,1,"포358","대면수업","2","0",2,"영어강의 학점교류생 수강불가"]
[42,"교양","일반교양(자유선택)","교무처","국제교류팀(구 국제하계대학)",11532,"01","Architecture and the City","안미혜",3,3,2,"포359","대면수업","15","0",15,"영어강의 학점교류생 수강불가, 국제하계대학 강의는 2교시를 13:00~15:30에 진행"]
[43,"교양","일반교양(자유선택)","교무처","국제교류팀(구 국제하계대학)",11533,"01","Music and the City","오세린",3,3,2,"포461","대면수업","10","0",10,"영어강의 학점교류생 수강불가, 국제하계대학 강의는 2교시를 13:00~15:30에 진행"]
[44,"교양","일반교양(자유선택)","교무처","국제교류팀(구 국제하계대학)",11534,"01","SNS Marketing","임동진",3,3,2,"포B151","대면수업","20","11",9,"영어강의 학점교류생 수강불가, 국제하계대학 강의는 2교시를 13:00~15:30에 진행"]
[45,"교양","일반교양(자유선택)","교무처","국제교류팀(구 국제하계대학)",11556,"01","Fashion and the City","양의영",3,3,2,"포160","대면수업","10","1",9,"영어강의 학점교류생 수강불가, 국제하계대학 강의는 2교시를 13:00~15:30에 진행"]
[46,"비사대교직","","사범대학","교육학과",20010,"01","교육행정및교육경영","이언조",2,2,1,"학505","대면수업","35","7",28,""]
[47,"전공선택","","인문과학대학","철학과",20233,"01","동양근세철학","김은영",3,3,1,"학409","대면수업","70","15",55,""]
[48,"전공기초","","자연과학대학","수학과",20406,"01","미분적분학","하구용",3,3,2,"포152","대면수업","60","58",2,""]
[49,"전공기초","","자연과학대학","수학과",20407,"01","미분적분학Ⅰ","김현정",3,3,2,"포452","대면수업","60","55",5,""]
[50,"전공기초","","자연과학대학","화학·나노과학과",20416,"01","일반화학Ⅰ","최한",3,3,1,"포153","대면수업","47","42",5,""]
[51,"전공기초","","자연과학대학","화학·나노과학과",20417,"01","일반화학Ⅱ","최한",3,3,2,"포153","대면수업","30","27",3,""]
[52,"전공기초","","자연과학대학","통계학과",20425,"01","통계학Ⅱ","문온",3,3,2,"포357","대면수업","50","26",24,"학점교류생 수강불가"]
[53,"전공선택","","자연과학대학","수학과",20441,"01","선형대수학Ⅰ","하구용",3,4.5,1,"포465","대면수업","60","44",16,""]
[54,"전공기초","","인공지능대학","컴퓨터공학과",20479,"01","이산수학","류준수",3,3,2,"공학A101","대면수업","30","16",14,"추가개설"]
[55,"전공필수","","인공지능대학","컴퓨터공학과",20481,"01","자료구조","이숙영",3,3,2,"공학B153","대면수업","31","29",2,"전공필수"]
[56,"전공선택","","자연과학대학","통계학과",20657,"01","회귀분석","유재근",3,3,1,"포360","대면수업","20","12",8,"수강제한: 23학번과 그 이전 학번 학생들: 수강신청 제한 없음 24학번 학생들: 재수강 학생만 수강 신청 가능 25학번, 26학번 학생들: 수강 신청 불가"]
[57,"전공필수","","음악대학","한국음악과",20870,"01","Korean Music Analysis and Composition Ⅱ","유민희",2,2,1,"음328","대면수업","30","16",14,"전공필수,영어강의 전공필수, 학점교류생 수강불가"]
[58,"전공선택","","조형예술대학","서양화",20969,"01","재료와기법","이주은",3,3,2,"조형A209","대면수업","16","13",3,"2024년 이전 입학생 수강"]
[59,"전공선택","","사범대학","유아교육과",21541,"01","유아음악및동작교육","유한나",3,3,1,"교B152","대면수업","20","10",10,"추가개설, 특수교육과 유아특수교육전공 학생들만 수강 가능/ 학점교류생 수강 불가"]
[60,"전공기초","","경영대학","경영학부",22233,"01","경영통계학","박응석",3,3,1,"포464","대면수업","70","39",31,""]
[61,"전공선택","","신산업융합대학","식품영양학과",22709,"01","식품위생및법규","곽지원",3,3,1,"생활114","대면수업","30","10",20,""]
[62,"전공기초","","자연과학대학","물리학과",30002,"01","일반물리학Ⅱ","조화연",3,3,2,"포451","대면수업","55","45",10,""]
[63,"전공선택","","사범대학","특수교육과",30731,"01","특수교육대상학생진단및평가","김유진",3,3,1,"교B154","대면수업","30","10",20,"추가개설"]
[64,"전공선택","","경영대학","경영학부",30822,"01","투자론","최문섭",3,3,2,"생활319","융합수업","30","24",6,"영어강의"]
[65,"전공필수","","경영대학","경영학부",30936,"01","운영관리","곽진경",3,3,1,"포151","융합수업","50","39",11,"전공필수,영어강의"]
[66,"전공기초","","사회과학대학","사회과학대학",33497,"01","사회과학고전읽기","김미주",3,3,2,"포161","대면수업","30","3",27,"사회대 4학년용(~19학번) 전공기초 교과목(20학번부터는 수강시 졸업학점으로만 포함됨)"]
[67,"전공필수","","경영대학","경영학부",33861,"01","회계정보원리","신보선",3,3,2,"포253","대면수업","115","104",11,"전공필수"]
[{"$f":"A70+1","v":68},"전공필수","","사범대학","유아교육과",34425,"01","유아교과논리및논술","유한나",3,3,2,"교A404","대면수업","20","10",10,"전공필수 추가개설, 특수교육과 유아특수교육전공 학생들만 수강 가능/ 학점교류생 수강 불가"]
[69,"전공선택","","사회과학대학","심리학과",34506,"01","사회심리학","김지영",3,3,1,"포259","대면수업","40","35",5,""]
[70,"전공선택","","사회과학대학","심리학과",34509,"01","이상심리학","한나",3,3,2,"포259","대면수업","30","15",15,""]
[71,"전공선택","","신산업융합대학","국제사무학과",34617,"01","비즈니스컴퓨팅","강윤정",3,3,1,"경영B120","대면수업","20","18",2,""]
[72,"전공기초","","사범대학","특수교육과",34951,"01","특수교육학개론","안혜신",2,2,2,"교B152","대면수업","34","32",2,""]
[73,"전공선택","","인문과학대학","국어국문학과",35070,"01","화법과미디어언어","김혜지",3,3,1,"학209","대면수업","32","24",8,"추가개설"]
[74,"전공선택","","인문과학대학","철학과",35080,"01","여성주의철학","김은주",3,3,2,"학409","대면수업","70","23",47,""]
[75,"전공기초","","인공지능대학","컴퓨터공학과",35339,"01","JAVA프로그래밍및실습Ⅰ","송현주",3,3,2,"공학A122","대면수업","30","22",8,"추가개설"]
[76,"전공선택","","신산업융합대학","의류산업학과",35382,"01","패션마케팅","황지영",3,3,1,"생활511","대면수업","40","30",10,""]
[77,"전공선택(교직)","","인문과학대학","국어국문학과",35479,"01","국어교과교육론","엄인영",3,3,1,"학106","대면수업","15","3",12,"추가개설, 교직교과목"]
[78,"전공선택(교직)","","인공지능대학","컴퓨터공학과",35622,"01","정보.컴퓨터교과교육론","양숙희",3,3,1,"공학A103","대면수업","15","8",7,"추가개설"]
[79,"전공기초","","음악대학","작곡과",35657,"01","음악사Ⅲ","장정윤",2,3,2,"음B119","대면수업","35","8",27,""]
[80,"전공기초","","음악대학","작곡과",35659,"01","조성음악분석Ⅱ","김민",2,2,1,"음120","대면수업","30","23",7,""]
[81,"전공선택","","스크랜튼대학","국제학",35679,"01","International Trade & Investment","오진환",3,3,2,"국1202","대면수업","30","22",8,"추가개설"]
[82,"전공선택","","사회과학대학","경제학과",35729,"01","Global Economic Issues","오진환 외 1명",3,3,1,"캠B143","대면수업","15","9",6,"영어강의 팀티칭, 학점교류생 수강 불가"]
[83,"전공기초","","인공지능대학","컴퓨터공학과",35914,"01","JAVA프로그래밍및실습Ⅱ","송영록",3,3,1,"공학A122","대면수업","30","11",19,"추가개설"]
[84,"전공기초","","사범대학","교육학과",35918,"01","교육현장의이해","최근정",2,2,1,"교B153","대면수업","50","24",26,""]
[85,"전공선택","","교무처","통합과학",35969,"01","과학,기술과사회","김희정",3,3,2,"학509","대면수업","25","13",12,""]
[86,"전공선택","","경영대학","경영학부",36168,"01","디지털비즈니스의이해","양희동",3,3,2,"생활216","융합수업","100","98",{"$f":"O89-P89","v":2},"영어강의"]
[87,"전공기초","","인공지능대학","컴퓨터공학과",36339,"02","컴퓨터프로그래밍및실습","송영록",3,3,2,"공학A125-1","대면수업","30","2",28,""]
[88,"전공기초","","음악대학","작곡과",36575,"01","음악사Ⅳ","장정윤",2,3,1,"음B119","대면수업","35","25",10,""]
[89,"전공선택","","조형예술대학","영상디자인",36699,"01","모션그래픽디자인","이윤수",3,3,2,"조형B403","대면수업","24","20",4,"추가개설"]
[90,"전공기초","","사범대학","교육학과",36940,"01","교육평가","곽예린",2,2,1,"학208","대면수업","38","27",11,""]
[91,"전공선택","","사범대학","교육공학과",36957,"01","교육테크놀로지와인적자원개발인턴십Ⅰ","소효정",1,"","","","대면수업","1","0",1,""]
[92,"전공선택(교직)","","인공지능대학","컴퓨터공학과",37017,"01","정보.컴퓨터교과논리및논술","양숙희",2,2,2,"공학A103","대면수업","10","6",4,"추가개설"]
[93,"비사대교직","","사범대학","교육학과",37026,"01","교육현장의이해","최근정",2,2,2,"교B153","대면수업","50","13",37,""]
[94,"전공선택","","자연과학대학","화학·나노과학과",37113,"01","생화학특론","남상집",3,3,2,"포360","대면수업","50","33",17,""]
[95,"전공선택","","경영대학","경영학부",37259,"01","고용관계론","김문주",3,3,1,"학552","대면수업","60","48",12,""]
[96,"전공기초","","공과대학","융합전자반도체공학부",37275,"01","고급프로그래밍및실습","박준희",3,3,1,"공학A410","대면수업","31","22",9,""]
[97,"전공기초","","공과대학","융합전자반도체공학부",37275,"02","고급프로그래밍및실습","박준희",3,3,2,"공학A410","대면수업","31","16",15,""]
[98,"전공선택","","경영대학","경영학부",37306,"01","기업과윤리","김문주",3,3,2,"학552","대면수업","55","38",17,""]
[99,"전공선택","","공과대학","건축학과",37308,"01","건축실무인턴십Ⅰ","강미선",1,"","","","대면수업","30","2",28,"인턴십, 사전선발생만수강가능, 협약이 체결된 기업 인턴십만 학점 인정 가능, 졸업예정자/학점교류생 수강불가"]
[100,"전공선택","","공과대학","건축학과",37319,"01","해외건축과어버니즘","이윤희",2,3,"","","대면수업","5","3",2,"추가개설, 교수인솔해외프로그램"]
[101,"전공기초","","사범대학","교육학과",37446,"01","학교폭력예방및학생의이해","김유정 외 2명",2,2,1,"학502","대면수업","35","28",7,"합반운영, 팀티칭"]
[102,"비사대교직","","사범대학","교육학과",37447,"01","학교폭력예방및학생의이해","김유정 외 2명",2,2,1,"학502","대면수업","35","11",24,"합반운영, 팀티칭"]
[103,"전공선택","","교무처","공공리더십과정의",37479,"01","형법","곽지현",3,3,2,"포B152","대면수업","100","89",11,""]
[104,"전공선택","","인문과학대학","국어국문학과",37714,"01","현장실습Ⅰ","김승우",3,"","","","대면수업","1","0",1,"추가개설, 학과주임교수의 사전 허가를 받은 학생만 신청 가능"]
[105,"전공선택","","사회과학대학","소비자학과",37738,"01","소비자학인턴십Ⅰ","최혜경",1,"","","","대면수업","1","0",1,""]
[106,"전공선택","","공과대학","건축도시시스템공학과",37748,"01","건축도시시스템인턴십Ⅱ","김단야",1,"","","","대면수업","30","0",30,""]
[107,"전공선택","","경영대학","경영학부",37757,"01","경영학인턴십Ⅰ","박소라",1,"","","","대면수업","50","1",49,"인턴십, 사전선발생만수강가능, 학점교류생수강불가"]
[108,"전공선택","","경영대학","경영학부",37758,"01","경영학인턴십Ⅱ","박소라",2,"","","","대면수업","50","3",47,"인턴십, 사전선발생만수강가능, 학점교류생수강불가"]
[109,"전공선택","","신산업융합대학","의류산업학과",37768,"01","패션현장실무인턴십Ⅲ","강서영",3,"","","","대면수업","1","0",1,"추가개설, 인턴십, 사전 선발생만 수강가능 학점교류생, 졸업예정자 수강불가"]
[110,"전공선택","","스크랜튼대학","국제학",37793,"01","International Studies Internship Ⅲ","정누리",3,"","","","대면수업","2","1",1,"추가개설, 인턴십, 사전선발생만 수강가능, 졸업예정자/학점교류생수강불가"]
[111,"전공선택","","공과대학","건축도시시스템공학과",37845,"01","건축도시시스템인턴십Ⅰ","김단야",2,"","","","대면수업","30","8",22,"인턴십, 사전선발생만수강가능, 협약 체결 기관만 학점인정가능, 학점교류생/졸업예정자 수강불가"]
[112,"전공선택","","인문과학대학","사학과",37902,"01","이탈리아상인과르네상스문화","최종철 외 1명",3,3,"","","대면수업","50","12",38,"추가개설, 교수인솔해외학습프로그램"]
[113,"전공기초","","조형예술대학","디자인학부",37954,"01","디지털드로잉Ⅱ","정석영",3,3,1,"조형A417","대면수업","20","17",3,""]
[114,"전공선택","","인문과학대학","중어중문학과",38040,"01","중국어학특강","문준혜",3,3,2,"학201","대면수업","30","8",22,""]
[115,"전공선택","","조형예술대학","동양화",38054,"01","예술현장실습(인턴쉽)","임장순",3,"","","","대면수업","30","8",22,"영어강의 추가개설, 교수인솔해외학습프로그램"]
[116,"전공선택","","조형예술대학","패션디자인",38259,"01","패션필드인턴십Ⅰ","이세리",3,"","","","대면수업","10","8",2,"사전 선발자만 수강신청 가능"]
[117,"전공선택","","인공지능대학","컴퓨터공학과",38360,"01","컴퓨터공학중기인턴십Ⅰ","오유란",3,"","","","대면수업","20","1",19,"인턴십, 사전선발생만수강가능, 학점교류생/졸업예정자 수강불가"]
[118,"전공선택","","공과대학","화공신소재공학과",38372,"01","화공신소재공학인턴십Ⅲ","이병훈",3,"","","","대면수업","60","2",58,"추가개설, 인턴십, 사전선발생만 수강가능, 협약체결 기관만 학점인정가능, 학점교류생/졸업에정자 수강불가"]
[119,"전공기초","","공과대학","융합전자반도체공학부",38413,"01","공학수치해석","서지현",3,3,1,"공학B159","대면수업","50","40",10,""]
[120,"전공선택","","인공지능대학","사이버보안학과",38473,"01","사이버보안개론","허가빈",3,3,1,"공학B153","대면수업","50","38",12,""]
[121,"전공선택","","인공지능대학","사이버보안학과",38507,"01","사이버보안중기인턴십Ⅰ","김종길",3,"","","","대면수업","15","0",15,"인턴십, 사전선발생만수강가능,  협약 체결 기관만 학점인정가능,  학점교류생/졸업예정자 수강불가"]
[122,"전공선택","","공과대학","휴먼기계바이오공학과",38616,"01","휴먼기계바이오공학글로벌필드트레이닝Ⅰ","이태용",1,"","","","대면수업","43","19",24,"추가개설, 졸업예정자 수강불가, 학점교류생 수강불가, 교수인솔해외프로그램, 사전선발생만 수강가능"]
[123,"전공선택","","사회과학대학","소비자학과",38630,"01","소비자학인턴십Ⅱ","최혜경",2,"","","","대면수업","1","0",1,""]
[124,"전공선택","","공과대학","화공신소재공학과",38681,"01","화공신소재공학고급실험Ⅰ","황혜림",1,1.5,"","","대면수업","60","25",35,"추가개설, 사전선발생만 수강가능, 학점교류생수강불가"]
[125,"전공선택","","공과대학","화공신소재공학과",38682,"01","화공신소재공학고급실험Ⅱ","황혜림",1,1.5,"","","대면수업","60","5",55,"추가개설, 사전선발생만 수강가능, 학점교류생수강불가"]
[126,"전공선택","","교무처","기업가정신",38684,"01","스타트업인턴십Ⅰ","김창훈",2,"","","","대면수업","10","5",5,"인턴십, 사전선발생만수강가능, 졸업예정자수강불가"]
[127,"전공선택","","교무처","기업가정신",38840,"01","스타트업해커톤캠프","김창훈",3,3,2,"캠B143","대면수업","30","7",23,""]
[128,"전공선택","","사회과학대학","심리학과",38866,"01","임상심리학","최해훈",3,3,2,"포151","대면수업","20","4",16,""]
[129,"전공선택","","엘텍공과대학","휴먼기계바이오공학부",38891,"01","휴먼기계바이오공학부산학연계중기인턴십Ⅰ","이상륜",3,"","","","대면수업","10","1",9,"인턴십, 사전선발생만수강가능, 협약 체결 기관만 학점인정가능, 학점교류생/졸업예정자 수강불가"]
[130,"전공선택","","엘텍공과대학","휴먼기계바이오공학부",38893,"01","휴먼기계바이오공학부산학연계중기인턴십Ⅲ","이상륜",3,"","","","대면수업","10","1",9,"인턴십, 사전선발생만수강가능, 협약 체결 기관만 학점인정가능, 학점교류생/졸업예정자 수강불가"]
[131,"전공선택","","사범대학","특수교육과",38917,"01","특수교육교육과정(국어)","박진석 외 1명",3,3,2,"학505","대면수업","30","15",15,""]
[{"$f":"A134+1","v":132},"전공선택","","약학대학","약학",38950,"01","약품기기분석학","장선복",3,3,1,"포552","대면수업","30","19",11,"추가개설"]
[133,"전공선택","","약학대학","약학",38959,"01","약동학","이화정 외 1명",3,3,"","","원격수업","200","33",167,"추가개설"]
[134,"전공선택","","약학대학","약학",38961,"01","독성학","서원효",3,3,1,"포555","대면수업","40","27",13,"추가개설"]
[135,"전공기초","","인공지능대학","인공지능데이터사이언스학부",39137,"01","컴퓨터프로그래밍Ⅰ","이주호",3,3,1,"동창201-1","대면수업","60","32",28,""]
[136,"전공기초","","인공지능대학","인공지능데이터사이언스학부",39139,"01","컴퓨터프로그래밍Ⅱ","이주호",3,3,2,"동창201-1","대면수업","60","25",35,""]
[137,"전공선택","","인공지능대학","인공지능",39142,"01","데이터사이언스","조현수",3,3,1,"캠B144","대면수업","15","4",11,"영어강의 국제하계대학 / 학점교류생 수강불가"]
[138,"전공필수","","인공지능대학","인공지능",39143,"01","패턴인식","노준혁",3,3,2,"캠B134","대면수업","65","58",7,"전공필수 학점교류생 수강불가"]
[139,"전공기초","","공과대학","융합전자반도체공학부",39197,"01","응용수학","서지현",3,3,2,"공학B159","대면수업","30","26",4,""]
[140,"전공기초","","사범대학","교육공학과",39324,"01","디지털교육","이지향",1,1,1,"교B154","대면수업","35","12",23,"추가개설"]
[141,"전공기초","","사범대학","교육공학과",39324,"02","디지털교육","이지향",1,1,2,"교B154","대면수업","35","22",13,"추가개설"]
[142,"전공선택","","조형예술대학","공간디자인",39362,"01","공간디자인인턴십Ⅲ","이지은",3,3,"","","대면수업","10","0",10,"추가개설, 인턴십, 사전선발생만수강가능, 학점교류생수강불가"]
[143,"전공선택","","스크랜튼대학","글로벌한국학",39431,"01","Korean Food and Culture","신다연",3,3,1,"포359","대면수업","15","11",{"$f":"O146-P146","v":4},"영어강의 학점교류생 수강불가"]
[144,"전공선택","","인문과학대학","불어불문학과",39514,"01","책의역사와근대성의형성","최요환",2,2,"","","대면수업","50","10",40,"추가개설, 교수인솔해외학습프로그램"]
[145,"일반선택","","외부대학","서울대학교","H0608","01","고고학조사방법론(서울대)","",3,3,"","","대면수업","2","0",2,""]
[146,"일반선택","","외부대학","서울대학교","H0609","01","영미대중소설의이해(서울대)","",3,3,"","","대면수업","1","0",1,""]
[147,"일반선택","","외부대학","서울대학교","H0614","01","한국기업경쟁력의이해(서울대)","",3,3,"","","대면수업","1","0",1,""]
[148,"일반선택","","외부대학","한국외국어대학교","V0092","01","초급스페인어문법(1)(외대)","",3,3,"","","대면수업","1","0",1,""]
[149,"일반선택","","외부대학","연세대","C0121","01","한국문화유산의이해(연대)","",3,3,"","","대면수업","1","0",1,""]
[150,"일반선택","","외부대학","연세대","C0384","01","영화의이해(연세대)","",3,3,"","","대면수업","1","0",1,""]
[151,"일반선택","","외부대학","연세대","C1030","01","언론학개론(연세대)","",3,3,"","","대면수업","1","0",1,""]
[152,"일반선택","","외부대학","연세대","C1089","01","중급중국어말하기(연세대)","",3,3,"","","대면수업","1","0",1,""]
[153,"전공선택","","외부대학","연세대","C1205","01","The Music Industry in the Visual Age(연대)","",3,3,"","","대면수업","1","0",1,""]
[154,"전공선택","","외부대학","연세대","C1256","01","스페인어(1)(연대)","",3,3,"","","대면수업","2","0",2,""]
[155,"전공선택","","외부대학","연세대","C1257","01","금융공학의이해(1)(연대)","",3,3,"","","대면수업","1","0",1,""]
[156,"일반선택","","외부대학","연세대","C1258","01","문학과영상예술(연대)","",3,3,"","","대면수업","2","0",2,""]
[157,"일반선택","","외부대학","연세대","C1260","01","일본어(1)(연대)","",3,3,"","","대면수업","1","0",1,""]

{"sheet":" 원본","index":1,"n_rows":202,"n_cols":19,"rows_kept":202,"cut":false,"hidden":true,"merged":[[0,1,0,17]]}
[null,"2025학년도 여름 계절학기 잔여석 현황"]
[{"$nulls":17},"2024.6.23. 10:20"]
["학수번호분반","ks","교과목구분","교과목영역","개설학과/전공","학수번호","분반","교과목명","교수명","학점","시간","교시","강의실","수업유형","본교생\n제한인원","본교생\n수강인원","본교생\n잔여석","비고","비고"]
[{"$f":"F4&G4","v":"3771501"},3,"전공선택","","국어국문학과",37715,"01","현장실습Ⅱ","연남경",6,"",null,null,"대면수업",{"$f":"VLOOKUP(A4,[1]작업1!$E$2:$N$183,5,0)","v":1},{"$f":"VLOOKUP(A4,[1]작업1!$E$1:$N$183,10,0)","v":0},{"$f":"O4-P4","v":1},"추가개설, 인턴십, 사전 선발생만 수강가능 학점교류생, 졸업예정자 수강불가"]
["3772201",4,"전공선택","","불어불문학과",37722,"01","불어불문학인턴십Ⅰ","Emmanuel Nicolas",1,"",null,null,"대면수업",{"$f":"VLOOKUP(A5,[1]작업1!$E$2:$N$183,5,0)","v":2},{"$f":"VLOOKUP(A5,[1]작업1!$E$1:$N$183,10,0)","v":0},{"$f":"O5-P5","v":2},"추가개설, 인턴십, 사전 선발생만 수강가능 학점교류생, 졸업예정자 수강불가"]
["3773801",5,"전공선택","","소비자학과",37738,"01","소비자학인턴십Ⅰ","최혜경",1,"",null,null,"대면수업",{"$f":"VLOOKUP(A6,[1]작업1!$E$2:$N$183,5,0)","v":1},{"$f":"VLOOKUP(A6,[1]작업1!$E$1:$N$183,10,0)","v":0},1,"추가개설, 사전 선발생만 수강 가능"]
["3776801",6,"전공선택","","의류산업학과",37768,"01","패션현장실무인턴십Ⅲ","강서영",3,"",null,null,"대면수업",{"$f":"VLOOKUP(A7,[1]작업1!$E$2:$N$183,5,0)","v":25},{"$f":"VLOOKUP(A7,[1]작업1!$E$1:$N$183,10,0)","v":1},24,"추가개설, 인턴십, 사전 선발생만 수강가능 학점교류생, 졸업예정자 수강불가"]
["3794501",7,"전공선택","","커뮤니케이션·미디어학부",37945,"01","커뮤니케이션현장실습1","유승철",1,"",null,null,"대면수업",{"$f":"VLOOKUP(A8,[1]작업1!$E$2:$N$183,5,0)","v":1},{"$f":"VLOOKUP(A8,[1]작업1!$E$1:$N$183,10,0)","v":0},1,"추가개설, 사전 선발생만 수강 가능"]
["3794601",8,"전공선택","","커뮤니케이션·미디어학부",37946,"01","커뮤니케이션현장실습2","유승철",2,"",null,null,"대면수업",{"$f":"VLOOKUP(A9,[1]작업1!$E$2:$N$183,5,0)","v":1},{"$f":"VLOOKUP(A9,[1]작업1!$E$1:$N$183,10,0)","v":0},1,"추가개설, 사전 선발생만 수강 가능"]
["3801801",9,"전공선택","","융합콘텐츠학과",38018,"01","융합콘텐츠인턴십Ⅲ","한혜원",3,"",null,null,"대면수업",{"$f":"VLOOKUP(A10,[1]작업1!$E$2:$N$183,5,0)","v":2},{"$f":"VLOOKUP(A10,[1]작업1!$E$1:$N$183,10,0)","v":0},2,"추가개설, 인턴십(전공)/ 전공 학점 인정 여부는 개강 전 학과의 인턴십 서류 심사로 결정됨/ 사전 승인되지 않은 학생은 수강 신청 불가함"]
["3836001",10,"전공선택","","컴퓨터공학과",38360,"01","컴퓨터공학중기인턴십Ⅰ","김규호",3,"",null,null,"대면수업",{"$f":"VLOOKUP(A11,[1]작업1!$E$2:$N$183,5,0)","v":20},{"$f":"VLOOKUP(A11,[1]작업1!$E$1:$N$183,10,0)","v":0},20,"추가개설, 인턴십, 사전선발생만수강가능,  협약 체결 기관만 학점인정가능,  학점교류생/졸업예정자 수강불가"]
["3836201",11,"전공선택","","컴퓨터공학과",38362,"01","컴퓨터공학중기인턴십Ⅲ","김규호",3,"",null,null,"대면수업",{"$f":"VLOOKUP(A12,[1]작업1!$E$2:$N$183,5,0)","v":20},{"$f":"VLOOKUP(A12,[1]작업1!$E$1:$N$183,10,0)","v":0},20,"추가개설, 인턴십, 사전선발생만수강가능,  협약 체결 기관만 학점인정가능,  학점교류생/졸업예정자 수강불가"]
["3850701",12,"전공선택","","사이버보안학과",38507,"01","사이버보안중기인턴십Ⅰ","유광현",3,"",null,null,"대면수업",{"$f":"VLOOKUP(A13,[1]작업1!$E$2:$N$183,5,0)","v":15},{"$f":"VLOOKUP(A13,[1]작업1!$E$1:$N$183,10,0)","v":0},15,"추가개설, 인턴십, 사전선발생만수강가능,  협약 체결 기관만 학점인정가능,  학점교류생/졸업예정자 수강불가"]
["3863001",13,"전공선택","","소비자학과",38630,"01","소비자학인턴십Ⅱ","최혜경",2,"",null,null,"대면수업",{"$f":"VLOOKUP(A14,[1]작업1!$E$2:$N$183,5,0)","v":1},{"$f":"VLOOKUP(A14,[1]작업1!$E$1:$N$183,10,0)","v":0},1,"추가개설, 사전 선발생만 수강 가능"]
["3866601",14,"전공선택","","컴퓨터공학과",38666,"01","컴퓨터공학단기인턴십Ⅳ","김규호",2,"",null,null,"대면수업",{"$f":"VLOOKUP(A15,[1]작업1!$E$2:$N$183,5,0)","v":20},{"$f":"VLOOKUP(A15,[1]작업1!$E$1:$N$183,10,0)","v":0},20,"추가개설, 인턴십, 사전선발생만수강가능,  협약 체결 기관만 학점인정가능,  학점교류생/졸업예정자 수강불가"]
["C055301",15,"일반선택","","연세대","C0553","01","철학과윤리(연대)","",3,3,null,null,"대면수업",{"$f":"VLOOKUP(A16,[1]작업1!$E$2:$N$183,5,0)","v":1},{"$f":"VLOOKUP(A16,[1]작업1!$E$1:$N$183,10,0)","v":0},1,""]
["C120601",16,"일반선택","","연세대","C1206","01","창업107:창업시뮬레이션(연대)","",1,1,null,null,"대면수업",{"$f":"VLOOKUP(A17,[1]작업1!$E$2:$N$183,5,0)","v":1},{"$f":"VLOOKUP(A17,[1]작업1!$E$1:$N$183,10,0)","v":0},1,""]
["H056401",17,"일반선택","","서울대학교","H0564","01","대중예술의이해(서울대)","",3,3,null,null,"대면수업",{"$f":"VLOOKUP(A18,[1]작업1!$E$2:$N$183,5,0)","v":1},{"$f":"VLOOKUP(A18,[1]작업1!$E$1:$N$183,10,0)","v":0},1,""]
["X000101",18,"일반선택","","경희대학교","X0001","01","경영학원론(경희대)","",3,3,null,null,"대면수업",{"$f":"VLOOKUP(A19,[1]작업1!$E$2:$N$183,5,0)","v":1},{"$f":"VLOOKUP(A19,[1]작업1!$E$1:$N$183,10,0)","v":0},1,""]
["3837701",19,"전공선택","","식품생명공학과",38377,"01","식품산업현장심화실습Ⅰ","도한솔",3,"","","","대면수업",{"$f":"VLOOKUP(A20,[1]작업1!$E$2:$N$183,5,0)","v":10},{"$f":"VLOOKUP(A20,[1]작업1!$E$1:$N$183,10,0)","v":0},10,"추가개설, 현장실습 과목, 학점교류생수강불가"]
["3936201",20,"전공선택","","공간디자인",39362,"01","공간디자인인턴십Ⅲ","이지은",3,3,"","","대면수업",{"$f":"VLOOKUP(A21,[1]작업1!$E$2:$N$183,5,0)","v":20},{"$f":"VLOOKUP(A21,[1]작업1!$E$1:$N$183,10,0)","v":0},20,"인턴십, 사전 선발생만 수강 가능, 학점교류생/졸업예정자 수강불가"]
["3412601",21,"전공기초","","동양화",34126,"01","드로잉","서은애",2,3,1,"조형A508","대면수업",{"$f":"VLOOKUP(A22,[1]작업1!$E$2:$N$183,5,0)","v":10},{"$f":"VLOOKUP(A22,[1]작업1!$E$1:$N$183,10,0)","v":1},9,"추가개설"]
["3551101",22,"전공선택(교직)","","컴퓨터공학과",35511,"01","정보.컴퓨터교과교재연구및지도법","안영아",3,3,1,"공학A124","대면수업",{"$f":"VLOOKUP(A23,[1]작업1!$E$2:$N$183,5,0)","v":15},{"$f":"VLOOKUP(A23,[1]작업1!$E$1:$N$183,10,0)","v":2},13,"추가개설, 학점교류생 수강불가, 교직과정 교과목"]
["3562201",23,"전공선택(교직)","","컴퓨터공학과",35622,"01","정보.컴퓨터교과교육론","양숙희",3,3,2,"공학A124","대면수업",{"$f":"VLOOKUP(A24,[1]작업1!$E$2:$N$183,5,0)","v":15},{"$f":"VLOOKUP(A24,[1]작업1!$E$1:$N$183,10,0)","v":4},11,"추가개설, 학점교류생 수강불가, 교직과정 교과목"]
["3868201",24,"전공선택","","화공신소재공학과",38682,"01","화공신소재공학고급실험Ⅱ","황혜림",1,1.5,"","","대면수업",{"$f":"VLOOKUP(A25,[1]작업1!$E$2:$N$183,5,0)","v":60},{"$f":"VLOOKUP(A25,[1]작업1!$E$1:$N$183,10,0)","v":6},54,"추가개설, 사전선발생만 수강가능, 학점교류생수강불가"]
["1009905",25,"교양","글로벌의사소통","호크마교양대학",10099,"05","Advanced English","박현주",3,3,2,"학210","대면수업",{"$f":"VLOOKUP(A26,[1]작업1!$E$2:$N$183,5,0)","v":30},{"$f":"VLOOKUP(A26,[1]작업1!$E$1:$N$183,10,0)","v":7},23,"영어강의 비영어권 외국인반"]
["1103601",26,"교양","글로벌의사소통","중어중문학과",11036,"01","중국어Ⅰ","이수정",2,3,2,"학105","대면수업",{"$f":"VLOOKUP(A27,[1]작업1!$E$2:$N$183,5,0)","v":30},{"$f":"VLOOKUP(A27,[1]작업1!$E$1:$N$183,10,0)","v":7},23,""]
["3349701",27,"전공기초","","사회과학대학",33497,"01","사회과학고전읽기","김미주",3,3,2,"포161","대면수업",{"$f":"VLOOKUP(A28,[1]작업1!$E$2:$N$183,5,0)","v":90},{"$f":"VLOOKUP(A28,[1]작업1!$E$1:$N$183,10,0)","v":9},81,"사회대 4학년용(~19학번) 전공기초 교과목(20학번부터는 수강시 졸업학점으로만 포함됨)"]
["3951501",28,"전공선택","","간호학부",39515,"01","해외간호현장탐방","차지영",1,1.5,"","","대면수업",{"$f":"VLOOKUP(A29,[1]작업1!$E$2:$N$183,5,0)","v":10},{"$f":"VLOOKUP(A29,[1]작업1!$E$1:$N$183,10,0)","v":9},1,"추가개설, 2025 상반기 교수인솔 해외학습 프로그램 참가 사전선발생만 수강가능, 졸업예정자 수강불가, 학점교류생 수강불가"]
["1050401",29,"교양","일반교양(자유선택)","도자예술",10504,"01","Korean Ceramics I","이지현",3,3,1,"조형B203","대면수업",{"$f":"VLOOKUP(A30,[1]작업1!$E$2:$N$183,5,0)","v":0},{"$f":"VLOOKUP(A30,[1]작업1!$E$1:$N$183,10,0)","v":0},0,"영어강의 국제하계대학, 본교생 및 학점교류생 수강 불가","잔여석 삭제불가_국제교(본교생제한0)"]
["1050402",30,"교양","일반교양(자유선택)","도자예술",10504,"02","Korean Ceramics I","김현아",3,3,2,"조형B203","대면수업",{"$f":"VLOOKUP(A31,[1]작업1!$E$2:$N$183,5,0)","v":0},{"$f":"VLOOKUP(A31,[1]작업1!$E$1:$N$183,10,0)","v":0},0,"영어강의 국제하계대학, 본교생 및 학점교류생 수강 불가, 국제하계대학 강의는 2교시를 13:00~15:30에 진행","잔여석 삭제불가_국제교(본교생제한0)"]
["1147301",31,"교양","일반교양(미래설계)","현장실습지원센터",11473,"01","이화커리어현장실습(계절)1","서선희",3,"","","","대면수업",{"$f":"VLOOKUP(A32,[1]작업1!$E$2:$N$183,5,0)","v":0},{"$f":"VLOOKUP(A32,[1]작업1!$E$1:$N$183,10,0)","v":0},0,"국내 4~5주 실습, 수강철회불가, 학생 직접 수강신청 불가(현장실습지원센터의 현장실습 참여자 대상 교과목)","잔여석 삭제불가_국제교(본교생제한0)"]
["1147401",32,"교양","일반교양(미래설계)","현장실습지원센터",11474,"01","이화커리어현장실습(계절)2","서선희",4,"","","","대면수업",{"$f":"VLOOKUP(A33,[1]작업1!$E$2:$N$183,5,0)","v":0},{"$f":"VLOOKUP(A33,[1]작업1!$E$1:$N$183,10,0)","v":0},0,"국내 6~7주 실습, 수강철회불가, 학생 직접 수강신청 불가(현장실습지원센터의 현장실습 참여자 대상 교과목)","잔여석 삭제불가_국제교(본교생제한0)"]
["1147501",33,"교양","일반교양(미래설계)","현장실습지원센터",11475,"01","이화커리어현장실습(계절)3","서선희",6,"","","","대면수업",{"$f":"VLOOKUP(A34,[1]작업1!$E$2:$N$183,5,0)","v":0},{"$f":"VLOOKUP(A34,[1]작업1!$E$1:$N$183,10,0)","v":0},0,"국내 8~11주 실습, 수강철회불가, 학생 직접 수강신청 불가(현장실습지원센터의 현장실습 참여자 대상 교과목)","잔여석 삭제불가_국제교(본교생제한0)"]
["1147601",34,"교양","일반교양(미래설계)","인재개발원",11476,"01","글로벌인턴십1","서선희",3,"","","","대면수업",{"$f":"VLOOKUP(A35,[1]작업1!$E$2:$N$183,5,0)","v":0},{"$f":"VLOOKUP(A35,[1]작업1!$E$1:$N$183,10,0)","v":0},0,"해외 4~5주, 인턴십 수행 후 1년 이내 승인학생, 수강철회불가,  학생 직접 수강신청 불가","잔여석 삭제불가_국제교(본교생제한0)"]
["1147701",35,"교양","일반교양(미래설계)","인재개발원",11477,"01","글로벌인턴십2","서선희",4,"","","","대면수업",{"$f":"VLOOKUP(A36,[1]작업1!$E$2:$N$183,5,0)","v":0},{"$f":"VLOOKUP(A36,[1]작업1!$E$1:$N$183,10,0)","v":0},0,"해외 6~7주, 인턴십 수행 후 1년 이내 승인학생, 수강철회불가,  학생 직접 수강신청 불가","잔여석 삭제불가_국제교(본교생제한0)"]
["1147801",36,"교양","일반교양(미래설계)","인재개발원",11478,"01","글로벌인턴십3","서선희",6,"","","","대면수업",{"$f":"VLOOKUP(A37,[1]작업1!$E$2:$N$183,5,0)","v":0},{"$f":"VLOOKUP(A37,[1]작업1!$E$1:$N$183,10,0)","v":0},0,"해외 8~11주, 인턴십 수행 후 1년 이내 승인학생, 수강철회불가,  학생 직접 수강신청 불가","잔여석 삭제불가_국제교(본교생제한0)"]
["1148101",37,"교양","일반교양(미래설계)","인재개발원",11481,"01","글로벌인턴십6","서선희",1,"","","","대면수업",{"$f":"VLOOKUP(A38,[1]작업1!$E$2:$N$183,5,0)","v":0},{"$f":"VLOOKUP(A38,[1]작업1!$E$1:$N$183,10,0)","v":0},0,"해외 4주, 인턴십 수행 후 1년 이내 승인학생, 수강철회불가,  학생 직접 수강신청 불가","잔여석 삭제불가_국제교(본교생제한0)"]
["3482902",38,"전공필수","","건반악기과",34829,"02","건반악기전공실기Ⅵ","박옥주",2,3,1,null,"대면수업",{"$f":"VLOOKUP(A39,[1]작업1!$E$2:$N$183,5,0)","v":1},{"$f":"VLOOKUP(A39,[1]작업1!$E$1:$N$183,10,0)","v":1},0,"전공필수 추가개설"]
["3482501",39,"전공필수","","건반악기과",34825,"01","건반악기전공실기Ⅱ","이선호",2,3,1,"","대면수업",{"$f":"VLOOKUP(A40,[1]작업1!$E$2:$N$183,5,0)","v":1},{"$f":"VLOOKUP(A40,[1]작업1!$E$1:$N$183,10,0)","v":1},0,"전공필수 추가개설"]
["3484201",40,"전공필수","","성악과",34842,"01","성악전공실기Ⅲ","우수연",2,3,1,"","대면수업",{"$f":"VLOOKUP(A41,[1]작업1!$E$2:$N$183,5,0)","v":1},{"$f":"VLOOKUP(A41,[1]작업1!$E$1:$N$183,10,0)","v":1},0,"전공필수 추가개설"]
["3889101",41,"전공선택","","휴먼기계바이오공학과",38891,"01","휴먼기계바이오공학산학연계중기인턴십Ⅰ","이상륜",3,"","","","대면수업",{"$f":"VLOOKUP(A42,[1]작업1!$E$2:$N$183,5,0)","v":10},{"$f":"VLOOKUP(A42,[1]작업1!$E$1:$N$183,10,0)","v":1},9,"인턴십, 사전선발생만수강가능, 협약 체결 기관만 학점인정가능, 학점교류생/졸업예정자 수강불가"]
["C111901",42,"일반선택","","연세대","C1119","01","미시경제학(연세대)","",3,3,"","","대면수업",{"$f":"VLOOKUP(A43,[1]작업1!$E$2:$N$183,5,0)","v":1},{"$f":"VLOOKUP(A43,[1]작업1!$E$1:$N$183,10,0)","v":1},0,""]
["H009401",43,"일반선택","","서울대학교","H0094","01","미시경제이론(서울대)","",3,3,"","","대면수업",{"$f":"VLOOKUP(A44,[1]작업1!$E$2:$N$183,5,0)","v":1},{"$f":"VLOOKUP(A44,[1]작업1!$E$1:$N$183,10,0)","v":1},0,""]
["H034201",44,"일반선택","","서울대학교","H0342","01","교육사회(서울대)","",2,2,"","","대면수업",{"$f":"VLOOKUP(A45,[1]작업1!$E$2:$N$183,5,0)","v":1},{"$f":"VLOOKUP(A45,[1]작업1!$E$1:$N$183,10,0)","v":1},0,""]
["H057301",45,"일반선택","","서울대학교","H0573","01","창작의세계(서울대)","",3,3,"","","대면수업",{"$f":"VLOOKUP(A46,[1]작업1!$E$2:$N$183,5,0)","v":1},{"$f":"VLOOKUP(A46,[1]작업1!$E$1:$N$183,10,0)","v":1},0,""]
["H057401",46,"일반선택","","서울대학교","H0574","01","철학개론(서울대)","",3,3,"","","대면수업",{"$f":"VLOOKUP(A47,[1]작업1!$E$2:$N$183,5,0)","v":1},{"$f":"VLOOKUP(A47,[1]작업1!$E$1:$N$183,10,0)","v":1},0,""]
["H057501",47,"일반선택","","서울대학교","H0575","01","테니스초급(서울대)","",1,1,"","","대면수업",{"$f":"VLOOKUP(A48,[1]작업1!$E$2:$N$183,5,0)","v":1},{"$f":"VLOOKUP(A48,[1]작업1!$E$1:$N$183,10,0)","v":1},0,""]
["H057701",48,"일반선택","","서울대학교","H0577","01","과학의철학적이해(서울대)","",3,3,"","","대면수업",{"$f":"VLOOKUP(A49,[1]작업1!$E$2:$N$183,5,0)","v":1},{"$f":"VLOOKUP(A49,[1]작업1!$E$1:$N$183,10,0)","v":1},0,""]
["H057801",49,"일반선택","","서울대학교","H0578","01","인간관계의심리학(서울대)","",3,3,"","","대면수업",{"$f":"VLOOKUP(A50,[1]작업1!$E$2:$N$183,5,0)","v":1},{"$f":"VLOOKUP(A50,[1]작업1!$E$1:$N$183,10,0)","v":1},0,""]
["3730801",50,"전공선택","","건축학과",37308,"01","건축실무인턴십Ⅰ","박지현",1,"","","","대면수업",{"$f":"VLOOKUP(A51,[1]작업1!$E$2:$N$183,5,0)","v":30},{"$f":"VLOOKUP(A51,[1]작업1!$E$1:$N$183,10,0)","v":2},28,"추가개설, 인턴십, 사전선발생만수강가능, 협약이 체결된 기업 인턴십만 학점 인정 가능, 졸업예정자/학점교류생 수강불가"]
["3889301",51,"전공선택","","휴먼기계바이오공학과",38893,"01","휴먼기계바이오공학산학연계중기인턴십Ⅲ","이상륜",3,"","","","대면수업",{"$f":"VLOOKUP(A52,[1]작업1!$E$2:$N$183,5,0)","v":10},{"$f":"VLOOKUP(A52,[1]작업1!$E$1:$N$183,10,0)","v":2},8,"인턴십, 사전선발생만수강가능, 협약 체결 기관만 학점인정가능, 학점교류생/졸업예정자 수강불가"]
["1153201",52,"교양","일반교양(자유선택)","국제교류팀(구 국제하계대학)",11532,"01","Architecture and the City","안미혜",3,3,2,"포365","대면수업",{"$f":"VLOOKUP(A53,[1]작업1!$E$2:$N$183,5,0)","v":10},{"$f":"VLOOKUP(A53,[1]작업1!$E$1:$N$183,10,0)","v":0},10,"영어강의 국제하계대학, 학점교류생 수강불가, 국제하계대학 강의는 2교시를 13:00~15:30에 진행"]
["3484101",53,"전공필수","","성악과",34841,"01","성악전공실기Ⅱ","우수연",2,3,1,"","대면수업",{"$f":"VLOOKUP(A54,[1]작업1!$E$2:$N$183,5,0)","v":3},{"$f":"VLOOKUP(A54,[1]작업1!$E$1:$N$183,10,0)","v":3},0,"전공필수 추가개설"]
["3784501",54,"전공선택","","건축도시시스템공학과",37845,"01","건축도시시스템인턴십Ⅰ","김단야",2,"","","","대면수업",{"$f":"VLOOKUP(A55,[1]작업1!$E$2:$N$183,5,0)","v":30},{"$f":"VLOOKUP(A55,[1]작업1!$E$1:$N$183,10,0)","v":3},27,"인턴십, 사전선발생만수강가능, 협약 체결 기관만 학점인정가능, 학점교류생/졸업예정자 수강불가"]
["3775801",55,"전공선택","","경영학부",37758,"01","경영학인턴십Ⅱ","박소라",2,"","","","대면수업",{"$f":"VLOOKUP(A56,[1]작업1!$E$2:$N$183,5,0)","v":50},{"$f":"VLOOKUP(A56,[1]작업1!$E$1:$N$183,10,0)","v":5},45,"인턴십, 사전선발생만수강가능, 학점교류생/졸업예정자 수강불가"]
["3902801",56,"전공선택","","미래산업약학",39028,"01","유전학과질환","이기현",1.5,1.5,2,"포367","융합수업",{"$f":"VLOOKUP(A57,[1]작업1!$E$2:$N$183,5,0)","v":10},{"$f":"VLOOKUP(A57,[1]작업1!$E$1:$N$183,10,0)","v":5},5,"영어강의 융합수업,  약학부 미래산업약학전공 학생 수강 약학전공 38923-01반과 합반"]
["1149201",57,"교양","일반교양(자유선택)","국제교류팀(구 국제하계대학)",11492,"01","Music in Wellness","유가을",3,3,1,"포356","대면수업",{"$f":"VLOOKUP(A58,[1]작업1!$E$2:$N$183,5,0)","v":10},{"$f":"VLOOKUP(A58,[1]작업1!$E$1:$N$183,10,0)","v":0},10,"영어강의 국제하계대학, 학점교류생 수강불가"]
["1134301",58,"교양","일반교양(자유선택)","국제교류팀(구 국제하계대학)",11343,"01","Cinema, Culture, and History","민자영",3,3,2,"포359","대면수업",{"$f":"VLOOKUP(A59,[1]작업1!$E$2:$N$183,5,0)","v":10},{"$f":"VLOOKUP(A59,[1]작업1!$E$1:$N$183,10,0)","v":1},9,"영어강의 국제하계대학, 학점교류생 수강불가, 국제하계대학 강의는 2교시를 13:00~15:30에 진행"]
["3868401",59,"전공선택","","기업가정신",38684,"01","스타트업인턴십Ⅰ","김창훈",2,"","","","대면수업",{"$f":"VLOOKUP(A60,[1]작업1!$E$2:$N$183,5,0)","v":15},{"$f":"VLOOKUP(A60,[1]작업1!$E$1:$N$183,10,0)","v":7},8,"인턴십, 사전선발생만수강가능, 학점교류생/졸업예정자수강불가"]
["1111801",60,"교양","일반교양(자유선택)","국제학과(국제대학원)",11118,"01","Special Topics on Korean Culture","Nicholas Hensley Harkness",3,3,"","","대면수업",{"$f":"VLOOKUP(A61,[1]작업1!$E$2:$N$183,5,0)","v":10},{"$f":"VLOOKUP(A61,[1]작업1!$E$1:$N$183,10,0)","v":8},2,"영어강의 월~목 10시~1시 국1002, Ewha-Harvard Summer(7/24~8/14), 사전선발생만 수강가능"]
["1148901",61,"교양","일반교양(자유선택)","국제교류팀(구 국제하계대학)",11489,"01","Art and the City: Exploring Asian Art in Seoul","권민호",3,3,2,"포362","대면수업",{"$f":"VLOOKUP(A62,[1]작업1!$E$2:$N$183,5,0)","v":10},{"$f":"VLOOKUP(A62,[1]작업1!$E$1:$N$183,10,0)","v":0},10,"영어강의 국제하계대학, 학점교류생 수강불가, 국제하계대학 강의는 2교시를 13:00~15:30에 진행","잔여석 삭제불가_국제교(본교생제한0)"]
["1153301",62,"교양","일반교양(자유선택)","국제교류팀(구 국제하계대학)",11533,"01","Music and the City","오세린",3,3,2,"포366","대면수업",{"$f":"VLOOKUP(A63,[1]작업1!$E$2:$N$183,5,0)","v":10},{"$f":"VLOOKUP(A63,[1]작업1!$E$1:$N$183,10,0)","v":0},10,"영어강의 국제하계대학, 학점교류생 수강불가, 국제하계대학 강의는 2교시를 13:00~15:30에 진행","잔여석 삭제불가_국제교(본교생제한0)"]
["1101801",63,"교양","일반교양(자유선택)","국제교류팀(구 국제하계대학)",11018,"01","Hallyu in Global Contexts","윤호영",3,3,2,"포358","대면수업",{"$f":"VLOOKUP(A64,[1]작업1!$E$2:$N$183,5,0)","v":10},{"$f":"VLOOKUP(A64,[1]작업1!$E$1:$N$183,10,0)","v":1},9,"영어강의 국제하계대학, 학점교류생 수강불가, 국제하계대학 강의는 2교시를 13:00~15:30에 진행","잔여석 삭제불가_국제교(본교생제한0)"]
["1138401",64,"교양","일반교양(자유선택)","국제교류팀(구 국제하계대학)",11384,"01","North Korea: Between Continuity and Change","김화정",3,3,2,"포360","대면수업",{"$f":"VLOOKUP(A65,[1]작업1!$E$2:$N$183,5,0)","v":10},{"$f":"VLOOKUP(A65,[1]작업1!$E$1:$N$183,10,0)","v":3},7,"영어강의 국제하계대학, 학점교류생 수강불가, 국제하계대학 강의는 2교시를 13:00~15:30에 진행","잔여석 삭제불가_국제교(본교생제한0)"]
["3744701",65,"비사대교직","","교육학과",37447,"01","학교폭력예방및학생의이해","장선희",2,2,1,"교B153","대면수업",{"$f":"VLOOKUP(A66,[1]작업1!$E$2:$N$183,5,0)","v":15},{"$f":"VLOOKUP(A66,[1]작업1!$E$1:$N$183,10,0)","v":10},5,"합반운영"]
[{"$f":"F67&G67","v":"3951401"},66,"전공선택","","불어불문학과",39514,"01","책의역사와근대성의형성","최요환",2,2,"","","대면수업",{"$f":"VLOOKUP(A67,[1]작업1!$E$2:$N$183,5,0)","v":16},{"$f":"VLOOKUP(A67,[1]작업1!$E$1:$N$183,10,0)","v":10},6,"추가개설, 2025 상반기 교수인솔 해외학습 프로그램 참가 사전선발생만 수강가능, 졸업예정자 수강불가, 학점교류생 수강불가"]
["3951601",67,"전공선택","","국제사무학과",39516,"01","글로벌MICE현장연구와해외탐방","최영준",1,"","","","대면수업",{"$f":"VLOOKUP(A68,[1]작업1!$E$2:$N$183,5,0)","v":40},{"$f":"VLOOKUP(A68,[1]작업1!$E$1:$N$183,10,0)","v":10},30,"추가개설, 2025 상반기 교수인솔 해외학습 프로그램 참가 사전선발생만 수강가능, 졸업예정자 수강불가, 학점교류생 수강불가"]
["3951701",68,"전공선택","","식품영양학과",39517,"01","아시아식문화의이해","정서진",2,2,"","","대면수업",{"$f":"VLOOKUP(A69,[1]작업1!$E$2:$N$183,5,0)","v":10},{"$f":"VLOOKUP(A69,[1]작업1!$E$1:$N$183,10,0)","v":10},{"$f":"O69-P69","v":0},"추가개설, 졸업예정자 수강불가, EAT 프로그램"]
["1009901",69,"교양","글로벌의사소통","호크마교양대학",10099,"01","Advanced English","이수경",3,3,2,"학208","대면수업",{"$f":"VLOOKUP(A70,[1]작업1!$E$2:$N$183,5,0)","v":30},{"$f":"VLOOKUP(A70,[1]작업1!$E$1:$N$183,10,0)","v":11},19,"영어강의 사회계열(재수강자 및 4학기이상 이수자 중 미수강자) /  학점교류생수강불가"]
["1148801",70,"교양","일반교양(자유선택)","국제교류팀(구 국제하계대학)",11488,"01","Design Creation (Studio-type)","김지인",3,3,2,"조형C104(ST-4)","대면수업",{"$f":"VLOOKUP(A71,[1]작업1!$E$2:$N$183,5,0)","v":0},{"$f":"VLOOKUP(A71,[1]작업1!$E$1:$N$183,10,0)","v":0},0,"영어강의 국제하계대학, 본교생 및 학점교류생 수강불가, 국제하계대학 강의는 2교시를 13:00~15:30에 진행","잔여석 삭제불가_국제교(본교생제한0)"]
["3069501",71,"전공선택","","사회교육",30695,"01","국제관계","이유철",3,3,1,"학410","대면수업",{"$f":"VLOOKUP(A72,[1]작업1!$E$2:$N$183,5,0)","v":20},{"$f":"VLOOKUP(A72,[1]작업1!$E$1:$N$183,10,0)","v":11},9,"4학년 졸업예정자만 수강 가능"]
["1099901",72,"교양","일반교양(자유선택)","국제교류팀(구 국제하계대학)",10999,"01","Korean Traditional Music (Studio-type)","박혜온",3,3,1,"포362","대면수업",{"$f":"VLOOKUP(A73,[1]작업1!$E$2:$N$183,5,0)","v":0},{"$f":"VLOOKUP(A73,[1]작업1!$E$1:$N$183,10,0)","v":0},0,"영어강의 국제하계대학, 본교생 및 학점교류생 수강불가","잔여석 삭제불가_국제교(본교생제한0)"]
["2153101",73,"전공선택","","유아교육과",21531,"01","유아교육과정","곽진이",3,3,1,"교B254","대면수업",{"$f":"VLOOKUP(A74,[1]작업1!$E$2:$N$183,5,0)","v":20},{"$f":"VLOOKUP(A74,[1]작업1!$E$1:$N$183,10,0)","v":13},7,"특수교육과 유아특수교육전공 학생들만 수강 가능/ 학점교류생 수강 불가"]
["3868101",74,"전공선택","","화공신소재공학과",38681,"01","화공신소재공학고급실험Ⅰ","황혜림",1,1.5,"","","대면수업",{"$f":"VLOOKUP(A75,[1]작업1!$E$2:$N$183,5,0)","v":60},{"$f":"VLOOKUP(A75,[1]작업1!$E$1:$N$183,10,0)","v":13},47,"추가개설, 사전선발생만 수강가능, 학점교류생수강불가"]
["2087001",75,"전공필수","","한국음악과",20870,"01","Korean Music Analysis and Composition Ⅱ","유민희",2,2,1,"음328","대면수업",{"$f":"VLOOKUP(A76,[1]작업1!$E$2:$N$183,5,0)","v":30},{"$f":"VLOOKUP(A76,[1]작업1!$E$1:$N$183,10,0)","v":14},16,"전공필수,영어강의 전공필수, 학점교류생 수강불가"]
["1100802",76,"교양","일반교양(자유선택)","국제교류팀(구 국제하계대학)",11008,"02","Korean Language Level 1 (Beginner)","전혜민",3,3,2,"학505","대면수업",{"$f":"VLOOKUP(A77,[1]작업1!$E$2:$N$183,5,0)","v":0},{"$f":"VLOOKUP(A77,[1]작업1!$E$1:$N$183,10,0)","v":0},0,"국제하계대학, 본교생 및 학점교류생 수강불가, 국제하계대학 강의는 2교시를 13:00~15:30에 진행","잔여석 삭제불가_국제교(본교생제한0)"]
["1101001",77,"교양","일반교양(자유선택)","국제교류팀(구 국제하계대학)",11010,"01","Korean Language Level 3 (Intermediate)","문영하",3,3,2,"학508","대면수업",{"$f":"VLOOKUP(A78,[1]작업1!$E$2:$N$183,5,0)","v":0},{"$f":"VLOOKUP(A78,[1]작업1!$E$1:$N$183,10,0)","v":0},0,"국제하계대학, 본교생 및 학점교류생 수강불가, 국제하계대학 강의는 2교시를 13:00~15:30에 진행","잔여석 삭제불가_국제교(본교생제한0)"]
["1131701",78,"교양","일반교양(자유선택)","국제교류팀(구 국제하계대학)",11317,"01","Intercultural Communications","임동진",3,3,1,"포357","대면수업",{"$f":"VLOOKUP(A79,[1]작업1!$E$2:$N$183,5,0)","v":10},{"$f":"VLOOKUP(A79,[1]작업1!$E$1:$N$183,10,0)","v":1},9,"영어강의 국제하계대학, 학점교류생 수강불가","잔여석 삭제불가_국제교(본교생제한0)"]
["2000801",79,"비사대교직","","교육학과",20008,"01","교육철학및교육사","신정민",2,2,1,"교B154","대면수업",{"$f":"VLOOKUP(A80,[1]작업1!$E$2:$N$183,5,0)","v":17},{"$f":"VLOOKUP(A80,[1]작업1!$E$1:$N$183,10,0)","v":14},3,""]
["2020601",80,"전공선택","","철학과",20206,"01","사회정치철학","이지영",3,3,2,"학510","대면수업",{"$f":"VLOOKUP(A81,[1]작업1!$E$2:$N$183,5,0)","v":100},{"$f":"VLOOKUP(A81,[1]작업1!$E$1:$N$183,10,0)","v":12},88,""]
["3596901",81,"전공선택","","통합과학",35969,"01","과학,기술과사회","김희정",3,3,2,"교B251","대면수업",{"$f":"VLOOKUP(A82,[1]작업1!$E$2:$N$183,5,0)","v":25},{"$f":"VLOOKUP(A82,[1]작업1!$E$1:$N$183,10,0)","v":15},10,""]
["3676501",82,"전공선택","","시각디자인",36765,"01","브랜드아이덴티티디자인","김시나",3,3,1,"조형C101(ST-1)","대면수업",{"$f":"VLOOKUP(A83,[1]작업1!$E$2:$N$183,5,0)","v":20},{"$f":"VLOOKUP(A83,[1]작업1!$E$1:$N$183,10,0)","v":14},6,""]
["1009806",83,"교양","글로벌의사소통","호크마교양대학",10098,"06","College English","오혜진",3,3,2,"학207","대면수업",{"$f":"VLOOKUP(A84,[1]작업1!$E$2:$N$183,5,0)","v":30},{"$f":"VLOOKUP(A84,[1]작업1!$E$1:$N$183,10,0)","v":16},14,"영어강의 비영어권 외국인반"]
["1100701",84,"교양","일반교양(자유선택)","국제교류팀(구 국제하계대학)",11007,"01","Contemporary Korean Cinema","곽영빈",3,3,1,"포361","대면수업",{"$f":"VLOOKUP(A85,[1]작업1!$E$2:$N$183,5,0)","v":10},{"$f":"VLOOKUP(A85,[1]작업1!$E$1:$N$183,10,0)","v":0},10,"영어강의 국제하계대학, 학점교류생 수강불가","잔여석 삭제불가_국제교(본교생제한0)"]
["1113201",85,"교양","일반교양(자유선택)","호크마교양대학",11132,"01","고급영어글쓰기","이소영",3,"",1,"","대면수업",{"$f":"VLOOKUP(A86,[1]작업1!$E$2:$N$183,5,0)","v":100},{"$f":"VLOOKUP(A86,[1]작업1!$E$1:$N$183,10,0)","v":16},84,"영어강의 프로그램 신청서 접수 및 수강료(48만원) 납부 요망 /Ewha Writing Intensive School (EWIS)"]
["3621501",86,"전공필수","","약학과",36215,"01","약물치료학Ⅰ","곽혜선",3,3,1,"포551","융합수업",{"$f":"VLOOKUP(A87,[1]작업1!$E$2:$N$183,5,0)","v":20},{"$f":"VLOOKUP(A87,[1]작업1!$E$1:$N$183,10,0)","v":16},4,"전공필수 추가개설"]
["1100801",87,"교양","일반교양(자유선택)","국제교류팀(구 국제하계대학)",11008,"01","Korean Language Level 1 (Beginner)","오아림",3,3,2,"학504","대면수업",{"$f":"VLOOKUP(A88,[1]작업1!$E$2:$N$183,5,0)","v":0},{"$f":"VLOOKUP(A88,[1]작업1!$E$1:$N$183,10,0)","v":0},0,"국제하계대학, 본교생 및 학점교류생 수강불가, 국제하계대학 강의는 2교시를 13:00~15:30에 진행","잔여석 삭제불가_국제교(본교생제한0)"]
["1149401",88,"교양","일반교양(자유선택)","국제교류팀(구 국제하계대학)",11494,"01","Contemporary Issues in Korean Culture","김화정",3,3,1,"포358","대면수업",{"$f":"VLOOKUP(A89,[1]작업1!$E$2:$N$183,5,0)","v":10},{"$f":"VLOOKUP(A89,[1]작업1!$E$1:$N$183,10,0)","v":2},8,"영어강의 국제하계대학, 학점교류생 수강불가","잔여석 삭제불가_국제교(본교생제한0)"]
["2041001",89,"전공기초","","물리학과",20410,"01","일반물리학실험Ⅰ","조화연",1,1.5,1,"종B301","대면수업",{"$f":"VLOOKUP(A90,[1]작업1!$E$2:$N$183,5,0)","v":23},{"$f":"VLOOKUP(A90,[1]작업1!$E$1:$N$183,10,0)","v":17},6,"영어강의"]
["2159101",90,"전공선택","","심리학과",21591,"01","발달심리학","이순행",3,3,1,"포359","대면수업",{"$f":"VLOOKUP(A91,[1]작업1!$E$2:$N$183,5,0)","v":30},{"$f":"VLOOKUP(A91,[1]작업1!$E$1:$N$183,10,0)","v":17},13,"추가개설"]
["1009801",91,"교양","글로벌의사소통","호크마교양대학",10098,"01","College English","Brian D. Ridgeway",3,3,1,"학203","대면수업",{"$f":"VLOOKUP(A92,[1]작업1!$E$2:$N$183,5,0)","v":30},{"$f":"VLOOKUP(A92,[1]작업1!$E$1:$N$183,10,0)","v":19},11,"영어강의 사회계열(재수강자 및 4학기이상 이수자 중 미수강자) /  학점교류생수강불가"]
["1112001",92,"교양","일반교양(자유선택)","국제교류팀(구 국제하계대학)",11120,"01","Cross-Cultural Psychology","윤선영",3,3,1,"포360","대면수업",{"$f":"VLOOKUP(A93,[1]작업1!$E$2:$N$183,5,0)","v":5},{"$f":"VLOOKUP(A93,[1]작업1!$E$1:$N$183,10,0)","v":0},5,"영어강의 국제하계대학, 학점교류생 수강불가","잔여석 삭제불가_국제교(본교생제한0)"]
["3567901",93,"전공선택","","국제학",35679,"01","International Trade & Investment","오진환",3,3,1,"국1202","대면수업",{"$f":"VLOOKUP(A94,[1]작업1!$E$2:$N$183,5,0)","v":50},{"$f":"VLOOKUP(A94,[1]작업1!$E$1:$N$183,10,0)","v":18},32,"추가개설"]
["1100901",94,"교양","일반교양(자유선택)","국제교류팀(구 국제하계대학)",11009,"01","Korean Language Level 2 (Elementary)","문연정",3,3,2,"학507","대면수업",{"$f":"VLOOKUP(A95,[1]작업1!$E$2:$N$183,5,0)","v":0},{"$f":"VLOOKUP(A95,[1]작업1!$E$1:$N$183,10,0)","v":0},0,"국제하계대학, 본교생 및 학점교류생 수강불가, 국제하계대학 강의는 2교시를 13:00~15:30에 진행","잔여석 삭제불가_국제교(본교생제한0)"]
["1008101",95,"교양","핵심교양(인간과사회)","법학과(법학전문대학원)",10081,"01","시민생활과법","김상일",3,3,2,"포B151","대면수업",{"$f":"VLOOKUP(A96,[1]작업1!$E$2:$N$183,5,0)","v":100},{"$f":"VLOOKUP(A96,[1]작업1!$E$1:$N$183,10,0)","v":20},80,""]
["1015801",96,"교양","일반교양(자유선택)","사학과",10158,"01","여성으로읽는한국사","정나영",3,3,2,"학652","대면수업",{"$f":"VLOOKUP(A97,[1]작업1!$E$2:$N$183,5,0)","v":20},{"$f":"VLOOKUP(A97,[1]작업1!$E$1:$N$183,10,0)","v":4},16,"영어강의 국제하계대학, 학점교류생 수강 불가",{"$f":"S95","v":"잔여석 삭제불가_국제교(본교생제한0)"}]
["1100001",97,"교양","일반교양(자유선택)","국제교류팀(구 국제하계대학)",11000,"01","Korean Traditional Painting (Studio-type)","성인제",3,3,1,"조형A601","대면수업",{"$f":"VLOOKUP(A98,[1]작업1!$E$2:$N$183,5,0)","v":0},{"$f":"VLOOKUP(A98,[1]작업1!$E$1:$N$183,10,0)","v":0},0,"영어강의 국제하계대학, 본교생 및 학점교류생 수강불가","잔여석 삭제불가_국제교(본교생제한0)"]
["1138501",98,"교양","컴퓨팅과수리적사고","사회복지학과",11385,"01","데이터과학적사고와사회문제해결과정","이지언",3,3,2,"포159","대면수업",{"$f":"VLOOKUP(A99,[1]작업1!$E$2:$N$183,5,0)","v":40},{"$f":"VLOOKUP(A99,[1]작업1!$E$1:$N$183,10,0)","v":20},20,""]
["3406701",99,"전공기초","","작곡과",34067,"01","음악사Ⅱ","장정윤",2,3,1,"음B119","대면수업",{"$f":"VLOOKUP(A100,[1]작업1!$E$2:$N$183,5,0)","v":35},{"$f":"VLOOKUP(A100,[1]작업1!$E$1:$N$183,10,0)","v":20},15,""]
["3604801",100,"전공선택","","커뮤니케이션·미디어학부",36048,"01","방송개론","양아정",3,3,2,"포461","대면수업",{"$f":"VLOOKUP(A101,[1]작업1!$E$2:$N$183,5,0)","v":27},{"$f":"VLOOKUP(A101,[1]작업1!$E$1:$N$183,10,0)","v":20},7,"추가개설"]
["3727501",101,"전공기초","","융합전자반도체공학부",37275,"01","고급프로그래밍및실습","박준희",3,3,1,"공학A410","대면수업",{"$f":"VLOOKUP(A102,[1]작업1!$E$2:$N$183,5,0)","v":30},{"$f":"VLOOKUP(A102,[1]작업1!$E$1:$N$183,10,0)","v":20},10,""]
["3754001",102,"전공선택","","커뮤니케이션·미디어학부",37540,"01","미디어글쓰기와스피치","정사강",3,3,2,"포259","대면수업",{"$f":"VLOOKUP(A103,[1]작업1!$E$2:$N$183,5,0)","v":25},{"$f":"VLOOKUP(A103,[1]작업1!$E$1:$N$183,10,0)","v":20},5,""]
["1134901",103,"교양","이화진선미","호크마교양대학",11349,"01","나눔과공존의리더십","이숙진",3,3,1,"학854","대면수업",{"$f":"VLOOKUP(A104,[1]작업1!$E$2:$N$183,5,0)","v":40},{"$f":"VLOOKUP(A104,[1]작업1!$E$1:$N$183,10,0)","v":21},19,""]
["1135201",104,"교양","사고와표현","호크마교양대학",11352,"01","통합적사고와글쓰기","박소영",3,3,1,"학503","대면수업",{"$f":"VLOOKUP(A105,[1]작업1!$E$2:$N$183,5,0)","v":35},{"$f":"VLOOKUP(A105,[1]작업1!$E$1:$N$183,10,0)","v":21},14,"외국인 분반(TOPIK 3급 이하) / 한국인 및 재외국민 수강 불가"]
["3740901",105,"전공선택","","컴퓨터공학과",37409,"01","SW자가학습Ⅲ","최윤정",1,"",2,"공학A121","대면수업",{"$f":"VLOOKUP(A106,[1]작업1!$E$2:$N$183,5,0)","v":25},{"$f":"VLOOKUP(A106,[1]작업1!$E$1:$N$183,10,0)","v":21},4,"추가개설, 학점교류생 수강불가"]
["3889801",106,"전공선택","","소프트웨어",38898,"01","자료구조와알고리즘개론","김연정",3,3,1,"동창201-1","대면수업",{"$f":"VLOOKUP(A107,[1]작업1!$E$2:$N$183,5,0)","v":30},{"$f":"VLOOKUP(A107,[1]작업1!$E$1:$N$183,10,0)","v":21},9,"엘텍공과대학(컴퓨터공학전공, 사이버보안전공), 인공지능대학 수강 불가"]
["3919701",107,"전공기초","","융합전자반도체공학부",39197,"01","응용수학","서지현",3,3,2,"공학A102","대면수업",{"$f":"VLOOKUP(A108,[1]작업1!$E$2:$N$183,5,0)","v":50},{"$f":"VLOOKUP(A108,[1]작업1!$E$1:$N$183,10,0)","v":21},29,""]
["1009803",108,"교양","글로벌의사소통","호크마교양대학",10098,"03","College English","성정혜",3,3,1,"학204","대면수업",{"$f":"VLOOKUP(A109,[1]작업1!$E$2:$N$183,5,0)","v":30},{"$f":"VLOOKUP(A109,[1]작업1!$E$1:$N$183,10,0)","v":22},8,"영어강의 자연계열(재수강자 및 4학기이상 이수자 중 미수강자) /  학점교류생수강불가"]
["1138001",109,"교양","일반교양(미래설계)","학생군사교육단",11380,"01","전투지휘학II","이명건",1,"","","","대면수업",{"$f":"VLOOKUP(A110,[1]작업1!$E$2:$N$183,5,0)","v":30},{"$f":"VLOOKUP(A110,[1]작업1!$E$1:$N$183,10,0)","v":22},8,"추가개설, 학군사관 후보생 외 수강불가"]
["2040901",110,"전공기초","","물리학과",20409,"01","일반물리학Ⅰ","마경주",3,3,2,"포464","대면수업",{"$f":"VLOOKUP(A111,[1]작업1!$E$2:$N$183,5,0)","v":60},{"$f":"VLOOKUP(A111,[1]작업1!$E$1:$N$183,10,0)","v":22},38,""]
["3657501",null,"전공기초","","작곡과",36575,"01","음악사Ⅳ","장정윤",2,3,2,"음B119","대면수업",{"$f":"VLOOKUP(A112,[1]작업1!$E$2:$N$183,5,0)","v":35},{"$f":"VLOOKUP(A112,[1]작업1!$E$1:$N$183,10,0)","v":22},13,""]
["3740701",null,"전공선택","","컴퓨터공학과",37407,"01","SW자가학습Ⅰ","최윤정",1,"",1,"공학A121","대면수업",{"$f":"VLOOKUP(A113,[1]작업1!$E$2:$N$183,5,0)","v":25},{"$f":"VLOOKUP(A113,[1]작업1!$E$1:$N$183,10,0)","v":22},3,"추가개설, 학점교류생 수강불가"]
["3884001",null,"전공선택","","기업가정신",38840,"01","스타트업해커톤캠프","김창훈",3,3,2,"캠B143","대면수업",{"$f":"VLOOKUP(A114,[1]작업1!$E$2:$N$183,5,0)","v":30},{"$f":"VLOOKUP(A114,[1]작업1!$E$1:$N$183,10,0)","v":15},15,"학점교류생수강가능"]
["3892301",null,"전공선택","","약학",38923,"01","유전학과질환","이기현",1.5,1.5,2,"포367","융합수업",{"$f":"VLOOKUP(A115,[1]작업1!$E$2:$N$183,5,0)","v":28},{"$f":"VLOOKUP(A115,[1]작업1!$E$1:$N$183,10,0)","v":23},5,"영어강의 융합수업, 약학부 약학전공 학생 수강 미래산업약학전공 39028-01반과 합반"]
["1134701",null,"교양","일반교양(자유선택)","국제교류팀(구 국제하계대학)",11347,"01","Visual Journal","김지인",3,3,1,"조형C104(ST-4)","대면수업",{"$f":"VLOOKUP(A116,[1]작업1!$E$2:$N$183,5,0)","v":0},{"$f":"VLOOKUP(A116,[1]작업1!$E$1:$N$183,10,0)","v":0},0,"영어강의 국제하계대학, 본교생 및 학점교류생 수강불가","잔여석 삭제불가_국제교(본교생제한0)"]
["1148701",null,"교양","일반교양(자유선택)","국제교류팀(구 국제하계대학)",11487,"01","Criminal Psychology: Exploring the Mind of Criminals","윤선영",3,3,2,"포361","대면수업",{"$f":"VLOOKUP(A117,[1]작업1!$E$2:$N$183,5,0)","v":2},{"$f":"VLOOKUP(A117,[1]작업1!$E$1:$N$183,10,0)","v":1},1,"영어강의 국제하계대학, 학점교류생 수강불가, 국제하계대학 강의는 2교시를 13:00~15:30에 진행","잔여석 삭제불가_국제교(본교생제한0)"]
["3081801",null,"전공필수","","경영학부",30818,"01","조직행위관리","최동원",3,3,2,"경영313","대면수업",{"$f":"VLOOKUP(A118,[1]작업1!$E$2:$N$183,5,0)","v":50},{"$f":"VLOOKUP(A118,[1]작업1!$E$1:$N$183,10,0)","v":24},26,"전공필수"]
["3358001",null,"전공선택","","국어국문학과",33580,"01","한국구비문학의세계","홍나래",3,3,1,"학210","대면수업",{"$f":"VLOOKUP(A119,[1]작업1!$E$2:$N$183,5,0)","v":50},{"$f":"VLOOKUP(A119,[1]작업1!$E$1:$N$183,10,0)","v":19},31,""]
["3565901",null,"전공기초","","작곡과",35659,"01","조성음악분석Ⅱ","김민",2,2,1,"음416","대면수업",{"$f":"VLOOKUP(A120,[1]작업1!$E$2:$N$183,5,0)","v":50},{"$f":"VLOOKUP(A120,[1]작업1!$E$1:$N$183,10,0)","v":24},26,""]
["3669901",null,"전공선택","","영상디자인",36699,"01","모션그래픽디자인","이윤수",3,3,1,"국1401","대면수업",{"$f":"VLOOKUP(A121,[1]작업1!$E$2:$N$183,5,0)","v":23},{"$f":"VLOOKUP(A121,[1]작업1!$E$1:$N$183,10,0)","v":23},0,""]
["3711301",null,"전공선택","","화학·나노과학과",37113,"01","생화학특론","남상집",3,3,2,"포260","대면수업",{"$f":"VLOOKUP(A122,[1]작업1!$E$2:$N$183,5,0)","v":35},{"$f":"VLOOKUP(A122,[1]작업1!$E$1:$N$183,10,0)","v":24},11,""]
["1009804",null,"교양","글로벌의사소통","호크마교양대학",10098,"04","College English","성정혜",3,3,2,"학204","대면수업",{"$f":"VLOOKUP(A123,[1]작업1!$E$2:$N$183,5,0)","v":30},{"$f":"VLOOKUP(A123,[1]작업1!$E$1:$N$183,10,0)","v":25},5,"영어강의 자연계열(재수강자 및 4학기이상 이수자 중 미수강자) /  학점교류생수강불가"]
["2048101",null,"전공필수","","컴퓨터공학과",20481,"01","자료구조","이경은",3,3,2,"공학A103","대면수업",{"$f":"VLOOKUP(A124,[1]작업1!$E$2:$N$183,5,0)","v":31},{"$f":"VLOOKUP(A124,[1]작업1!$E$1:$N$183,10,0)","v":25},6,"전공필수 학점교류생 수강불가"]
["3375901",null,"전공선택","","커뮤니케이션·미디어학부",33759,"01","미디어심리학","정지영",3,3,1,"포260","대면수업",{"$f":"VLOOKUP(A125,[1]작업1!$E$2:$N$183,5,0)","v":25},{"$f":"VLOOKUP(A125,[1]작업1!$E$1:$N$183,10,0)","v":25},0,""]
["3495101",null,"전공기초","","특수교육과",34951,"01","특수교육학개론","고희선",2,2,1,"교B152","대면수업",{"$f":"VLOOKUP(A126,[1]작업1!$E$2:$N$183,5,0)","v":30},{"$f":"VLOOKUP(A126,[1]작업1!$E$1:$N$183,10,0)","v":24},6,""]
["1153401",null,"교양","일반교양(자유선택)","국제교류팀(구 국제하계대학)",11534,"01","SNS Marketing","임동진",3,3,2,"포160","대면수업",{"$f":"VLOOKUP(A127,[1]작업1!$E$2:$N$183,5,0)","v":2},{"$f":"VLOOKUP(A127,[1]작업1!$E$1:$N$183,10,0)","v":2},0,"영어강의 국제하계대학, 학점교류생 수강불가, 국제하계대학 강의는 2교시를 13:00~15:30에 진행","잔여석 삭제불가_국제교(본교생제한0)"]
["3461701",null,"전공선택","","국제사무학과",34617,"01","비즈니스컴퓨팅","강윤정",3,3,1,"경영B117","대면수업",{"$f":"VLOOKUP(A128,[1]작업1!$E$2:$N$183,5,0)","v":31},{"$f":"VLOOKUP(A128,[1]작업1!$E$1:$N$183,10,0)","v":27},4,""]
["3494701",null,"전공기초","","교육학과",34947,"01","교육철학및교육사","신정민",2,2,2,"교B256","대면수업",{"$f":"VLOOKUP(A129,[1]작업1!$E$2:$N$183,5,0)","v":35},{"$f":"VLOOKUP(A129,[1]작업1!$E$1:$N$183,10,0)","v":27},8,"추가개설"]
["1057101",null,"교양","글로벌의사소통","호크마교양대학",10571,"01","기본스페인어","이은해",3,3,2,"학410","대면수업",{"$f":"VLOOKUP(A130,[1]작업1!$E$2:$N$183,5,0)","v":31},{"$f":"VLOOKUP(A130,[1]작업1!$E$1:$N$183,10,0)","v":28},3,""]
[{"$f":"F131&G131","v":"3734601"},null,"전공선택","","서양화",37346,"01","현대미술의현장-해외탐방","이창원",3,"","","","대면수업",{"$f":"VLOOKUP(A131,[1]작업1!$E$2:$N$183,5,0)","v":40},{"$f":"VLOOKUP(A131,[1]작업1!$E$1:$N$183,10,0)","v":28},12,"추가개설, 2025 상반기 교수인솔 해외학습 프로그램 참가 사전선발생만 수강가능, 졸업예정자 수강불가, 학점교류생 수강불가"]
["1009802",null,"교양","글로벌의사소통","호크마교양대학",10098,"02","College English","고근영",3,3,2,"학203","대면수업",{"$f":"VLOOKUP(A132,[1]작업1!$E$2:$N$183,5,0)","v":30},{"$f":"VLOOKUP(A132,[1]작업1!$E$1:$N$183,10,0)","v":29},1,"영어강의 사회계열(재수강자 및 4학기이상 이수자 중 미수강자) /  학점교류생수강불가"]
["1009805",null,"교양","글로벌의사소통","호크마교양대학",10098,"05","College English","김명옥",3,3,2,"학205","대면수업",{"$f":"VLOOKUP(A133,[1]작업1!$E$2:$N$183,5,0)","v":30},{"$f":"VLOOKUP(A133,[1]작업1!$E$1:$N$183,10,0)","v":29},{"$f":"O133-P133","v":1},"영어강의 예체능계열(재수강자 및 4학기이상 이수자 중 미수강자) / 학점교류생수강불가"]
["1009904",null,"교양","글로벌의사소통","호크마교양대학",10099,"04","Advanced English","HARRISON JOHN THOMAS GRANT",3,3,1,"학207","대면수업",{"$f":"VLOOKUP(A134,[1]작업1!$E$2:$N$183,5,0)","v":30},{"$f":"VLOOKUP(A134,[1]작업1!$E$1:$N$183,10,0)","v":29},1,"영어강의 인문계열(재수강자 및 4학기이상 이수자 중 미수강자) /  학점교류생수강불가"]
["1009902",null,"교양","글로벌의사소통","호크마교양대학",10099,"02","Advanced English","신혜린",3,3,1,"학205","대면수업",{"$f":"VLOOKUP(A135,[1]작업1!$E$2:$N$183,5,0)","v":30},{"$f":"VLOOKUP(A135,[1]작업1!$E$1:$N$183,10,0)","v":30},0,"영어강의 자연계열(재수강자 및 4학기이상 이수자 중 미수강자) /  학점교류생수강불가"]
["1009903",null,"교양","글로벌의사소통","호크마교양대학",10099,"03","Advanced English","이승연",3,3,2,"학209","대면수업",{"$f":"VLOOKUP(A136,[1]작업1!$E$2:$N$183,5,0)","v":30},{"$f":"VLOOKUP(A136,[1]작업1!$E$1:$N$183,10,0)","v":30},0,"영어강의 자연계열(재수강자 및 4학기이상 이수자 중 미수강자) /  학점교류생수강불가"]
["1121001",null,"교양","핵심교양(인간과사회)","국어교육과",11210,"01","교육커뮤니케이션의이해와실제","엄인영",3,3,2,"학409","대면수업",{"$f":"VLOOKUP(A137,[1]작업1!$E$2:$N$183,5,0)","v":48},{"$f":"VLOOKUP(A137,[1]작업1!$E$1:$N$183,10,0)","v":24},24,""]
["3591801",null,"전공기초","","교육학과",35918,"01","교육현장의이해","전숙경",2,2,1,"교B256","대면수업",{"$f":"VLOOKUP(A138,[1]작업1!$E$2:$N$183,5,0)","v":35},{"$f":"VLOOKUP(A138,[1]작업1!$E$1:$N$183,10,0)","v":30},5,""]
["3744601",null,"전공기초","","교육학과",37446,"01","학교폭력예방및학생의이해","장선희",2,2,1,"교B153","대면수업",{"$f":"VLOOKUP(A139,[1]작업1!$E$2:$N$183,5,0)","v":38},{"$f":"VLOOKUP(A139,[1]작업1!$E$1:$N$183,10,0)","v":30},8,"합반운영"]
["3533901",null,"전공기초","","컴퓨터공학과",35339,"01","JAVA프로그래밍및실습Ⅰ","송현주",3,3,2,"공학A122","대면수업",{"$f":"VLOOKUP(A140,[1]작업1!$E$2:$N$183,5,0)","v":35},{"$f":"VLOOKUP(A140,[1]작업1!$E$1:$N$183,10,0)","v":32},3,"학점교류생 수강불가"]
["3845701",null,"전공선택","","환경공학",38457,"01","교통환경공학","위대현",3,3,1,"공학A103","대면수업",{"$f":"VLOOKUP(A141,[1]작업1!$E$2:$N$183,5,0)","v":40},{"$f":"VLOOKUP(A141,[1]작업1!$E$1:$N$183,10,0)","v":32},8,""]
["1135202",null,"교양","사고와표현","호크마교양대학",11352,"02","통합적사고와글쓰기","한정미",3,3,1,"학504","대면수업",{"$f":"VLOOKUP(A142,[1]작업1!$E$2:$N$183,5,0)","v":35},{"$f":"VLOOKUP(A142,[1]작업1!$E$1:$N$183,10,0)","v":33},2,"외국인 분반(TOPIK 4급 이상) / 한국인 및 재외국민 수강 불가"]
["1082001",null,"교양","일반교양(자유선택)","국제교류팀(구 국제하계대학)",10820,"01","Gender Relations in Korea","조혜림",3,3,1,"캠B147","대면수업",{"$f":"VLOOKUP(A143,[1]작업1!$E$2:$N$183,5,0)","v":2},{"$f":"VLOOKUP(A143,[1]작업1!$E$1:$N$183,10,0)","v":0},2,"영어강의 국제하계대학, 학점교류생 수강불가","잔여석 삭제불가_국제교(본교생제한0)"]
["1090401",null,"교양","핵심교양(인간과사회)","사회복지학과",10904,"01","우리사회의문제와쟁점찾기","이지언",3,3,1,"포253","대면수업",{"$f":"VLOOKUP(A144,[1]작업1!$E$2:$N$183,5,0)","v":40},{"$f":"VLOOKUP(A144,[1]작업1!$E$1:$N$183,10,0)","v":34},6,""]
["3022601",null,"전공선택","","컴퓨터공학",30226,"01","오토마타및형식언어","민혜정",3,3,1,"공학B151","대면수업",{"$f":"VLOOKUP(A145,[1]작업1!$E$2:$N$183,5,0)","v":40},{"$f":"VLOOKUP(A145,[1]작업1!$E$1:$N$183,10,0)","v":34},6,"학점교류생 수강불가"]
["3886601",null,"전공선택","","심리학과",38866,"01","임상심리학","이유미",3,3,1,"포365","대면수업",{"$f":"VLOOKUP(A146,[1]작업1!$E$2:$N$183,5,0)","v":36},{"$f":"VLOOKUP(A146,[1]작업1!$E$1:$N$183,10,0)","v":36},0,"추가개설"]
["1135203",null,"교양","사고와표현","호크마교양대학",11352,"03","통합적사고와글쓰기","구선정",3,3,2,"학503","대면수업",{"$f":"VLOOKUP(A147,[1]작업1!$E$2:$N$183,5,0)","v":35},{"$f":"VLOOKUP(A147,[1]작업1!$E$1:$N$183,10,0)","v":35},0,"외국인 및 학점교류생 수강불가"]
["1135204",null,"교양","사고와표현","호크마교양대학",11352,"04","통합적사고와글쓰기","정혜진",3,3,1,"학505","대면수업",{"$f":"VLOOKUP(A148,[1]작업1!$E$2:$N$183,5,0)","v":35},{"$f":"VLOOKUP(A148,[1]작업1!$E$1:$N$183,10,0)","v":35},0,"외국인 및 학점교류생 수강불가"]
["2041701",null,"전공기초","","화학·나노과학과",20417,"01","일반화학Ⅱ","최한",3,3,1,"포261","대면수업",{"$f":"VLOOKUP(A149,[1]작업1!$E$2:$N$183,5,0)","v":60},{"$f":"VLOOKUP(A149,[1]작업1!$E$1:$N$183,10,0)","v":37},23,""]
["2044101",null,"전공선택","","수학과",20441,"01","선형대수학Ⅰ","안수형",3,4.5,2,"포453","대면수업",{"$f":"VLOOKUP(A150,[1]작업1!$E$2:$N$183,5,0)","v":38},{"$f":"VLOOKUP(A150,[1]작업1!$E$1:$N$183,10,0)","v":38},0,""]
["3082001",null,"전공필수","","경영학부",30820,"01","경영정보시스템","박철우",3,3,1,"경영312","대면수업",{"$f":"VLOOKUP(A151,[1]작업1!$E$2:$N$183,5,0)","v":50},{"$f":"VLOOKUP(A151,[1]작업1!$E$1:$N$183,10,0)","v":39},11,"전공필수"]
["2041301",null,"전공기초","","생명과학과",20413,"01","일반생물학Ⅰ","김현석 외 1명",3,3,1,"포161","대면수업",{"$f":"VLOOKUP(A152,[1]작업1!$E$2:$N$183,5,0)","v":40},{"$f":"VLOOKUP(A152,[1]작업1!$E$1:$N$183,10,0)","v":40},0,"팀티칭"]
["3093601",null,"전공필수","","경영학부",30936,"01","운영관리","곽진경",3,3,1,"경영204","융합수업",{"$f":"VLOOKUP(A153,[1]작업1!$E$2:$N$183,5,0)","v":50},{"$f":"VLOOKUP(A153,[1]작업1!$E$1:$N$183,10,0)","v":43},7,"전공필수,영어강의"]
["1144801",null,"교양","일반교양(자유선택)","국제교류팀(구 국제하계대학)",11448,"01","Entertainment Media","윤호영",3,3,1,"포363","대면수업",{"$f":"VLOOKUP(A154,[1]작업1!$E$2:$N$183,5,0)","v":2},{"$f":"VLOOKUP(A154,[1]작업1!$E$1:$N$183,10,0)","v":2},0,"영어강의 국제하계대학, 학점교류생 수강불가","잔여석 삭제불가_국제교(본교생제한0)"]
["3591401",null,"전공기초","","컴퓨터공학과",35914,"01","JAVA프로그래밍및실습Ⅱ","양숙희",3,3,1,"공학A224","대면수업",{"$f":"VLOOKUP(A155,[1]작업1!$E$2:$N$183,5,0)","v":44},{"$f":"VLOOKUP(A155,[1]작업1!$E$1:$N$183,10,0)","v":44},0,"학점교류생 수강불가"]
["3634101",null,"전공기초","","융합전자반도체공학부",36341,"01","공학수학","서지현",3,3,1,"공학A102","대면수업",{"$f":"VLOOKUP(A156,[1]작업1!$E$2:$N$183,5,0)","v":50},{"$f":"VLOOKUP(A156,[1]작업1!$E$1:$N$183,10,0)","v":44},6,""]
["3694001",null,"전공기초","","교육학과",36940,"01","교육평가","곽예린",2,2,2,"교B152","대면수업",{"$f":"VLOOKUP(A157,[1]작업1!$E$2:$N$183,5,0)","v":45},{"$f":"VLOOKUP(A157,[1]작업1!$E$1:$N$183,10,0)","v":45},0,"추가개설"]
["2042501",null,"전공기초","","통계학과",20425,"01","통계학Ⅱ","문온",3,3,2,"포357","대면수업",{"$f":"VLOOKUP(A158,[1]작업1!$E$2:$N$183,5,0)","v":50},{"$f":"VLOOKUP(A158,[1]작업1!$E$1:$N$183,10,0)","v":47},3,"학점교류생 수강불가"]
["1077201",null,"교양","핵심교양(역사와철학)","여성학",10772,"01","여성과사회정의","김현영",3,3,2,"포153","대면수업",{"$f":"VLOOKUP(A159,[1]작업1!$E$2:$N$183,5,0)","v":80},{"$f":"VLOOKUP(A159,[1]작업1!$E$1:$N$183,10,0)","v":44},36,""]
["1107901",null,"교양","핵심교양(인간과사회)","특수교육과",11079,"01","장애와사회","김유진",3,3,2,"교B254","대면수업",{"$f":"VLOOKUP(A160,[1]작업1!$E$2:$N$183,5,0)","v":52},{"$f":"VLOOKUP(A160,[1]작업1!$E$1:$N$183,10,0)","v":48},4,""]
["3450601",null,"전공선택","","심리학과",34506,"01","사회심리학","최지영",3,3,2,"포151","대면수업",{"$f":"VLOOKUP(A161,[1]작업1!$E$2:$N$183,5,0)","v":45},{"$f":"VLOOKUP(A161,[1]작업1!$E$1:$N$183,10,0)","v":45},0,""]
["3000201",null,"전공기초","","물리학과",30002,"01","일반물리학Ⅱ","조화연",3,3,2,"포451","대면수업",{"$f":"VLOOKUP(A162,[1]작업1!$E$2:$N$183,5,0)","v":55},{"$f":"VLOOKUP(A162,[1]작업1!$E$1:$N$183,10,0)","v":49},6,""]
["3633901",null,"전공기초","","컴퓨터공학과",36339,"01","컴퓨터프로그래밍및실습","송현주",3,3,1,"공학A125","대면수업",{"$f":"VLOOKUP(A163,[1]작업1!$E$2:$N$183,5,0)","v":50},{"$f":"VLOOKUP(A163,[1]작업1!$E$1:$N$183,10,0)","v":50},0,"학점교류생 수강불가"]
["3498001",null,"전공기초","","통계학과",34980,"01","확률및통계학","송수민",3,3,2,"포356","대면수업",{"$f":"VLOOKUP(A164,[1]작업1!$E$2:$N$183,5,0)","v":50},{"$f":"VLOOKUP(A164,[1]작업1!$E$1:$N$183,10,0)","v":50},0,"학점교류생 수강불가"]
["3469101",null,"전공필수","","커뮤니케이션·미디어학부",34691,"01","미디어연구방법","이준희",3,3,1,"포B161","대면수업",{"$f":"VLOOKUP(A165,[1]작업1!$E$2:$N$183,5,0)","v":60},{"$f":"VLOOKUP(A165,[1]작업1!$E$1:$N$183,10,0)","v":51},9,"전공필수"]
["3508001",null,"전공선택","","철학과",35080,"01","여성주의철학","김은주",3,3,2,"학511","대면수업",{"$f":"VLOOKUP(A166,[1]작업1!$E$2:$N$183,5,0)","v":100},{"$f":"VLOOKUP(A166,[1]작업1!$E$1:$N$183,10,0)","v":47},53,""]
["2225001",null,"전공필수","","경영학부",22250,"01","재무관리","변진호",3,3,2,"경영209","대면수업",{"$f":"VLOOKUP(A167,[1]작업1!$E$2:$N$183,5,0)","v":60},{"$f":"VLOOKUP(A167,[1]작업1!$E$1:$N$183,10,0)","v":57},3,"전공필수 추가개설"]
["3538201",null,"전공선택","","의류산업학과",35382,"01","패션마케팅","황지영",3,3,2,"생활511","대면수업",{"$f":"VLOOKUP(A168,[1]작업1!$E$2:$N$183,5,0)","v":80},{"$f":"VLOOKUP(A168,[1]작업1!$E$1:$N$183,10,0)","v":58},22,""]
["2040601",null,"전공기초","","수학과",20406,"01","미분적분학","하구용",3,3,1,"종AB101","대면수업",{"$f":"VLOOKUP(A169,[1]작업1!$E$2:$N$183,5,0)","v":60},{"$f":"VLOOKUP(A169,[1]작업1!$E$1:$N$183,10,0)","v":59},1,"졸업예정자 수강불가"]
["2040701",null,"전공기초","","수학과",20407,"01","미분적분학Ⅰ","김현정",3,3,2,"포465","대면수업",{"$f":"VLOOKUP(A170,[1]작업1!$E$2:$N$183,5,0)","v":60},{"$f":"VLOOKUP(A170,[1]작업1!$E$1:$N$183,10,0)","v":60},0,""]
["2041601",null,"전공기초","","화학·나노과학과",20416,"01","일반화학Ⅰ","차선신",3,3,2,"포261","대면수업",{"$f":"VLOOKUP(A171,[1]작업1!$E$2:$N$183,5,0)","v":70},{"$f":"VLOOKUP(A171,[1]작업1!$E$1:$N$183,10,0)","v":62},8,""]
["2223401",null,"전공선택","","경영학부",22234,"01","기업경영의이해","김지영",3,3,2,"경영211","대면수업",{"$f":"VLOOKUP(A172,[1]작업1!$E$2:$N$183,5,0)","v":65},{"$f":"VLOOKUP(A172,[1]작업1!$E$1:$N$183,10,0)","v":65},0,"추가개설"]
["1095201",null,"교양","일반교양(자유선택)","교육학과",10952,"01","Introductory Psychology in Education","오인수",3,3,"","","원격수업",{"$f":"VLOOKUP(A173,[1]작업1!$E$2:$N$183,5,0)","v":200},{"$f":"VLOOKUP(A173,[1]작업1!$E$1:$N$183,10,0)","v":64},136,"영어강의"]
["1064701",null,"교양","일반교양(자유선택)","호크마교양대학",10647,"01","Practical English","이소영",3,"",2,"","대면수업",{"$f":"VLOOKUP(A174,[1]작업1!$E$2:$N$183,5,0)","v":200},{"$f":"VLOOKUP(A174,[1]작업1!$E$1:$N$183,10,0)","v":69},131,"영어강의 프로그램 신청서 접수 및 수강료(48만원) 납부 요망 / Speaking Master Program (SMaP)"]
["2223301",null,"전공기초","","경영학부",22233,"01","경영통계학","곽진경",3,3,"","","원격수업",{"$f":"VLOOKUP(A175,[1]작업1!$E$2:$N$183,5,0)","v":200},{"$f":"VLOOKUP(A175,[1]작업1!$E$1:$N$183,10,0)","v":71},129,"원격수업, 시험은 오프라인 (7/10, 7/23 11am-12pm 예정)"]
["1014901",null,"교양","핵심교양(역사와철학)","사학과",10149,"01","한국근현대사","송하연",3,3,2,"학654","대면수업",{"$f":"VLOOKUP(A176,[1]작업1!$E$2:$N$183,5,0)","v":90},{"$f":"VLOOKUP(A176,[1]작업1!$E$1:$N$183,10,0)","v":79},11,"수강불가 → 사학, 사학과"]
["1016501",null,"교양","핵심교양(예술과표현)","미술사학",10165,"01","현대미술사","강은주",3,3,1,"학511","대면수업",{"$f":"VLOOKUP(A177,[1]작업1!$E$2:$N$183,5,0)","v":100},{"$f":"VLOOKUP(A177,[1]작업1!$E$1:$N$183,10,0)","v":81},19,""]
["1123301",null,"교양","컴퓨팅과수리적사고","작곡과",11233,"01","음악테크놀로지와프로그래밍","전현석",3,3,1,"학551","대면수업",{"$f":"VLOOKUP(A178,[1]작업1!$E$2:$N$183,5,0)","v":90},{"$f":"VLOOKUP(A178,[1]작업1!$E$1:$N$183,10,0)","v":71},19,""]
["3616801",null,"전공선택","","경영학부",36168,"01","디지털비즈니스의이해","양희동",3,3,"","","원격수업",{"$f":"VLOOKUP(A179,[1]작업1!$E$2:$N$183,5,0)","v":200},{"$f":"VLOOKUP(A179,[1]작업1!$E$1:$N$183,10,0)","v":84},116,"영어강의 온라인 녹화 강의(2025년 새 버전)"]
["3386101",null,"전공필수","","경영학부",33861,"01","회계정보원리","김재영",3,3,1,"경영205","대면수업",{"$f":"VLOOKUP(A180,[1]작업1!$E$2:$N$183,5,0)","v":90},{"$f":"VLOOKUP(A180,[1]작업1!$E$1:$N$183,10,0)","v":85},5,"전공필수,영어강의"]
["1096201",null,"교양","일반교양(자유선택)","교육학과",10962,"01","Introduction to Counseling","오인수",3,3,"","","원격수업",{"$f":"VLOOKUP(A181,[1]작업1!$E$2:$N$183,5,0)","v":200},{"$f":"VLOOKUP(A181,[1]작업1!$E$1:$N$183,10,0)","v":91},109,"영어강의"]
["1002301",null,"교양","이화진선미","기독교학과",10023,"01","기독교와세계","정혜진",3,3,2,"학109","대면수업",{"$f":"VLOOKUP(A182,[1]작업1!$E$2:$N$183,5,0)","v":100},{"$f":"VLOOKUP(A182,[1]작업1!$E$1:$N$183,10,0)","v":99},1,""]
["3309301",null,"전공선택","","공공리더십과정의",33093,"01","젠더법학","김주현",3,3,2,"생활319","대면수업",{"$f":"VLOOKUP(A183,[1]작업1!$E$2:$N$183,5,0)","v":150},{"$f":"VLOOKUP(A183,[1]작업1!$E$1:$N$183,10,0)","v":115},35,""]
["1136702",null,"교양","컴퓨팅과수리적사고","교육학과",11367,"02","사회문제해결을위한R프로그래밍기초","이선복",3,3,"","","원격수업",{"$f":"VLOOKUP(A184,[1]작업1!$E$2:$N$183,5,0)","v":275},{"$f":"VLOOKUP(A184,[1]작업1!$E$1:$N$183,10,0)","v":275},0,"영어강의"]
["1136701",null,"교양","컴퓨팅과수리적사고","교육학과",11367,"01","사회문제해결을위한R프로그래밍기초","이선복",3,3,"","","원격수업",{"$f":"VLOOKUP(A185,[1]작업1!$E$2:$N$183,5,0)","v":275},{"$f":"VLOOKUP(A185,[1]작업1!$E$1:$N$183,10,0)","v":275},0,"영어강의"]
[]
[]
[]
["C120501"]
["H057601"]
["3482401"]
["3482901"]
["3825901"]
["3889201"]
["3917501"]
["3450901"]
["2047901"]
["3775701"]
["3775901"]
["3753401"]
["3837101"]
["3837201"]